BEGIN:VCALENDAR
VERSION:2.0
PRODID:-//ChamberMaster//Event Calendar 2.0//EN
METHOD:PUBLISH
X-PUBLISHED-TTL:P3D
REFRESH-INTERVAL:P3D
CALSCALE:GREGORIAN
BEGIN:VEVENT
DTSTART:20220402T140000Z
DTEND:20220402T180000Z
X-MICROSOFT-CDO-ALLDAYEVENT:FALSE
SUMMARY:Youth Sports & Activity Expo
DESCRIPTION:Visit Marshall presents the Youth Sports & Activity Expo at the Red Baron Arena & Expo in Marshall Minnesota on April 2nd\, 2022\, from 9am   1pm. The event will be free to the public for kids and adults of all ages\, we have asked our local activity and sports associations to come in and bring an interactive booth so kids can try new things from soccer to shooting a bow arrow. They will also have information for the upcoming summer for parents to gather more information. There will also be an area of business vendors for businesses who directly impact these associations.\n\n\n\nRegistration for Associations & Business interested:  https://forms.gle/5NnHrdz4dDZ7opND9\n\n\n\nRegistered Vendors: \nKayKo Baton Studio\n\nSouthwest Figure Skating Club \n\nSouthwest Swim Club\n\nMarshall Area YMCA\n\nLyon County Parks\n\nMarshall United Soccer Association\n\nLyon County Pheasants Forever\n\nMarshall Baseball\n\nMarshall Area Wrestling Association\n\nSMSU Athletics\n\nScout Pack and Troop 320 \n\nMarshall High School Girls' Swim and Dive Team\n\nMarshall R/C Model Airplane Club\n\nMarshall FFA\n\nMarshall Robotics and Engineering\n\nMarshall Hoops Club\n\nMarshall Area Fastpitch Softball Association \n\nMarshall Amateur Hockey Association \n\nMicro RC Helis and Drones\n\nMarshall JO Volleyball Club\n\nBuffalo Ridge Gobblers NWTF\n\nMarshall Tennis \n\nShooters Sporting Clays\n\nMarshall-Lyon County Library\n\nLyon County Museum\n\nMarshall Youth Gymnastics\n\nMGBA\n\nMarshall Tiger Dance Team\n\nMarshall Aquatic Center\n\nAvera Marshall Regional Medical Center\n\nCouncil on International Educational Exchange\n\nMarshall Cross Country
X-ALT-DESC;FMTTYPE=text/html:Visit Marshall presents the Youth Sports &amp\; Activity Expo at the Red Baron Arena &amp\; Expo in Marshall Minnesota on April 2<sup>nd</sup>\, 2022\, from 9am &ndash\; 1pm. The event will be free to the public for kids and adults of all ages\, we have asked our local activity and sports associations to come in and bring an interactive booth so kids can try new things from soccer to shooting a bow arrow. They will also have information for the upcoming summer for parents to gather more information. There will also be an area of business vendors for businesses who directly impact these associations.<br />\n<br />\nRegistration for Associations &amp\; Business interested:&nbsp\;&nbsp\;<a href="https://forms.gle/5NnHrdz4dDZ7opND9">https://forms.gle/5NnHrdz4dDZ7opND9</a><br />\n<br />\nRegistered Vendors:&nbsp\;\n<div>KayKo Baton Studio</div>\n\n<div>Southwest Figure Skating Club&nbsp\;</div>\n\n<div>Southwest Swim Club</div>\n\n<div>Marshall Area YMCA</div>\n\n<div>Lyon County Parks</div>\n\n<div>Marshall United Soccer Association</div>\n\n<div>Lyon County Pheasants Forever</div>\n\n<div>Marshall Baseball</div>\n\n<div>Marshall Area Wrestling Association</div>\n\n<div>SMSU Athletics</div>\n\n<div>Scout Pack and Troop 320&nbsp\;</div>\n\n<div>Marshall High School Girls&#39\; Swim and Dive Team</div>\n\n<div>Marshall R/C Model Airplane Club</div>\n\n<div>Marshall FFA</div>\n\n<div>Marshall Robotics and Engineering</div>\n\n<div>Marshall Hoops Club</div>\n\n<div>Marshall Area Fastpitch Softball Association&nbsp\;</div>\n\n<div>Marshall Amateur Hockey Association&nbsp\;</div>\n\n<div><span data-sheets-userformat="{&quot\;2&quot\;:513\,&quot\;3&quot\;:{&quot\;1&quot\;:0}\,&quot\;12&quot\;:0}" data-sheets-value="{&quot\;1&quot\;:2\,&quot\;2&quot\;:&quot\;Micro RC Helis and Drones&quot\;}" style="font-size: 10pt\; font-family: Arial\;">Micro RC Helis and Drones</span></div>\n\n<div>Marshall JO Volleyball Club</div>\n\n<div>Buffalo Ridge Gobblers NWTF</div>\n\n<div>Marshall Tennis&nbsp\;</div>\n\n<div>Shooters Sporting Clays</div>\n\n<div>Marshall-Lyon County Library</div>\n\n<div>Lyon County Museum</div>\n\n<div>Marshall Youth Gymnastics</div>\n\n<div>MGBA</div>\n\n<div>Marshall Tiger Dance Team</div>\n\n<div>Marshall Aquatic Center</div>\n\n<div><span data-sheets-userformat="{&quot\;2&quot\;:513\,&quot\;3&quot\;:{&quot\;1&quot\;:0}\,&quot\;12&quot\;:0}" data-sheets-value="{&quot\;1&quot\;:2\,&quot\;2&quot\;:&quot\;Avera Marshall Regional Medical Center&quot\;}" style="font-size: 10pt\; font-family: Arial\;">Avera Marshall Regional Medical Center</span></div>\n\n<div>Council on International Educational Exchange</div>\n\n<div>Marshall Cross Country</div>\n
LOCATION:Red Baron Arena & Expo
UID:e.499.17283
SEQUENCE:3
DTSTAMP:20260426T001626Z
URL:https://business.marshallmn.org/events/details/youth-sports-activity-expo-17283
END:VEVENT

END:VCALENDAR
