BEGIN:VCALENDAR
VERSION:2.0
PRODID:-//ChamberMaster//Event Calendar 2.0//EN
METHOD:PUBLISH
X-PUBLISHED-TTL:P3D
REFRESH-INTERVAL:P3D
CALSCALE:GREGORIAN
BEGIN:VEVENT
DTSTART:20260321T140000Z
DTEND:20260321T170000Z
X-MICROSOFT-CDO-ALLDAYEVENT:FALSE
SUMMARY:Youth Sports & Activity Expo
DESCRIPTION:The Youth Sports & Activity Expo is a vibrant and exciting event brimming with opportunities for families. A diverse range of organizations\, from local sports clubs and recreational leagues to dance studios\, set up interactive booths. Children can actively participate in a variety of sports and activities\, giving them a taste of everything from basketball and soccer to gymnastics and swimming. Meanwhile\, parents can engage with knowledgeable representatives from each group\, gaining valuable insights into program details. This dynamic environment allows families to explore a wide array of options\, discover hidden talents\, and find the perfect activities to nurture their children's growth and development.
X-ALT-DESC;FMTTYPE=text/html:<span style="color:rgb(54\, 58\, 62)\; font-family:montserrat\,sans-serif\; font-size:20.6px">The Youth Sports &amp\; Activity Expo is a vibrant and exciting event brimming with opportunities for families. A diverse range of organizations\, from local sports clubs and recreational leagues to dance studios\, set up interactive booths. Children can actively participate in a variety of sports and activities\, giving them a taste of everything from basketball and soccer to gymnastics and swimming. Meanwhile\, parents can engage with knowledgeable representatives from each group\, gaining valuable insights into program details. This dynamic environment allows families to explore a wide array of options\, discover hidden talents\, and find the perfect activities to nurture their children's growth and development.</span>
LOCATION:Red Baron Arena & Expo
UID:e.499.22816
SEQUENCE:3
DTSTAMP:20260424T020744Z
URL:https://business.marshallmn.org/events/details/youth-sports-activity-expo-03-21-2026-22816
END:VEVENT

END:VCALENDAR
