BEGIN:VCALENDAR
VERSION:2.0
PRODID:-//ChamberMaster//Event Calendar 2.0//EN
METHOD:PUBLISH
X-PUBLISHED-TTL:P3D
REFRESH-INTERVAL:P3D
CALSCALE:GREGORIAN
BEGIN:VEVENT
DTSTART;VALUE=DATE:20191104
DTEND;VALUE=DATE:20200105
TRANSP:TRANSPARENT
X-MICROSOFT-CDO-ALLDAYEVENT:TRUE
SUMMARY:Youth Pool and Adult Youth Dart Leagues Forming
DESCRIPTION:2020 Adult/Youth Dart Leagues starting January 12th\n\n2-Person Teams  1 Adult + 1 Youth 7-20 years of age\n\nOrganizational Meeting at the Varsity Pub Jan 5th at Noon\n\n\n\n2020 Youth Pool Leagues starting January 12th\n\n3-Person Teams ~ can't find a team? we will help you!\n\nOrganizational Meeting at the Varsity Pub Jan 5th at 1pm\n\n\n\nMore info? Call Dustin at 507-532-2195 or email dustinb@cngameroom.com
X-ALT-DESC;FMTTYPE=text/html:2020 Adult/Youth Dart Leagues starting January 12th<br />\n2-Person Teams&nbsp\; 1 Adult + 1 Youth 7-20 years of age<br />\nOrganizational Meeting at the Varsity Pub Jan 5th at Noon<br />\n<br />\n2020 Youth Pool Leagues starting January 12th<br />\n3-Person Teams ~ can&#39\;t find a team? we will help you!<br />\nOrganizational Meeting at the Varsity Pub Jan 5th at 1pm<br />\n<br />\nMore info? Call Dustin at 507-532-2195 or email dustinb@cngameroom.com<br />\n&nbsp\;
LOCATION:
UID:e.499.9382
SEQUENCE:3
DTSTAMP:20260424T165815Z
URL:https://business.marshallmn.org/events/details/youth-pool-and-adult-youth-dart-leagues-forming-9382
END:VEVENT

END:VCALENDAR
