BEGIN:VCALENDAR
VERSION:2.0
PRODID:-//ChamberMaster//Event Calendar 2.0//EN
METHOD:PUBLISH
X-PUBLISHED-TTL:P3D
REFRESH-INTERVAL:P3D
CALSCALE:GREGORIAN
BEGIN:VEVENT
DTSTART:20181016T170000Z
DTEND:20181016T180000Z
X-MICROSOFT-CDO-ALLDAYEVENT:FALSE
SUMMARY:Young Professionals Luncheon
DESCRIPTION:Tour at the Southwest Minnesota Regional Airport  \n\nJoin us in October to tour alongside the opening of a hangar\, gain basic information as to process\, requirements\, and different certifications that are available and learn about what it takes to get a private pilot license! \n \nThank you to the Sleep Inn for sponsoring the 2018 - 2019 Marshall Area Young Professional events!
X-ALT-DESC;FMTTYPE=text/html:<pre style="white-space: pre-wrap\; overflow-wrap: break-word\; text-align: center\;">\n<font color="#a52a2a" face="tahoma"><span style="font-size: 16px\;"><b>Tour at the Southwest Minnesota Regional Airport </b></span></font><span style="font-size:12px\;"><span style="color:#800080\;"><span style="font-family:verdana\;"> \n\nJoin us in October to tour alongside the opening of a hangar\, </span></span></span><span style="font-size: 12px\;"><span style="color: rgb(128\, 0\, 128)\;"><span style="font-family: calibri\, sans-serif\;"><span style="font-family: verdana\;">gain basic information as to process\, requirements\, and different certifications that are available and</span></span></span></span><span style="font-size:12px\;"><span style="color:#800080\;"><span style="font-family:verdana\;"> learn </span><span style="font-family:calibri\,sans-serif\;"><span style="font-family:verdana\;">about what it takes to get a private pilot license! \n</span></span></span><span style="font-family:tahoma\;"><span style="color:#800080\;"> </span>\nThank you to the&nbsp\;<strong style="font-family: arial\; font-size: 12px\;">Sleep Inn</strong>&nbsp\;for sponsoring the 2018 - 2019 Marshall Area Young Professional events!</span></span>\n</pre>\n
LOCATION:1650 West College Drive Marshall\, MN 56258
UID:e.499.7882
SEQUENCE:3
DTSTAMP:20260425T132203Z
URL:https://business.marshallmn.org/events/details/young-professionals-luncheon-7882
END:VEVENT

END:VCALENDAR
