BEGIN:VCALENDAR
VERSION:2.0
PRODID:-//ChamberMaster//Event Calendar 2.0//EN
METHOD:PUBLISH
X-PUBLISHED-TTL:P3D
REFRESH-INTERVAL:P3D
CALSCALE:GREGORIAN
BEGIN:VEVENT
DTSTART:20171219T180000Z
DTEND:20171219T190000Z
X-MICROSOFT-CDO-ALLDAYEVENT:FALSE
SUMMARY:Young Professionals Luncheon
DESCRIPTION:Hope Harbor\n\n \n\n\nAs you all know\, a core value for our Young Professional's group is to give back to our community by volunteering in some sort of capacity.  This month we are excited to have Cindy McKittrick share the story and vision of the ministry behind Hope Harbor. In additional you will also  hear a personal story from Stacia about her past year at Hope Harbor.  \n \nWe will meet at Bello for a pasta bar.  After the presentation you will have time to ask any questions you may have. We encourage you to take a look at the house "wish list" to see if there is anything you can do to help make this Christmas a great one for these group of kids!    This ministry is always open to donations either monetary\, volunteering time or items from the wish list.  Thank-you for making a difference in our community!\n\n\n\n\nThank you to the Sleep Inn for sponsoring the 2017-18 Marshall Area Young Professional events!
X-ALT-DESC;FMTTYPE=text/html:<h3 style="text-align: center\;"><span style="font-family:arial\;"><span style="font-size:14px\;"><span style="color: rgb(255\, 0\, 0)\;"><strong>Hope Harbor</strong></span></span></span><br />\n&nbsp\;</h3>\n\n<pre style="text-align: center\;">\n<span style="font-family:arial\;"><span style="color: black\;"><span style="font-size: 11pt\;">As you all know\, a core value for our Young Professional&rsquo\;s group is to give back to our community by volunteering in some sort of capacity.&nbsp\; This month we are excited to have Cindy McKittrick </span><span style="font-size:14px\;">share the story and vision of the ministry behind Hope Harbor.</span><span style="font-size: 11pt\;"> In additional you will also &nbsp\;hear a personal story from Stacia about her past year at Hope Harbor.&nbsp\; </span></span>\n&nbsp\;\n<span style="color: black\;"><span style="font-size: 11pt\;">We will meet at Bello for a pasta bar.&nbsp\; After the presentation you will have time to ask any questions you may have. We encourage you to take a look at the house &ldquo\;<a href="https://chambermaster.blob.core.windows.net/userfiles/UserFiles/chambers/499/File/HH2.JPG">wish list</a>&rdquo\; to see if there is anything you can do to help make this Christmas a great one for these group of kids!&nbsp\; &nbsp\;&nbsp\;This ministry is always open to donations either monetary\, volunteering time or items from the wish list. &nbsp\;Thank-you for making a difference in our community!</span></span>\n\n</span></pre>\n\n<pre style="white-space: pre-wrap\; word-wrap: break-word\; color: rgb(51\, 51\, 51)\; font-size: 13px\; line-height: 20.8px\; text-align: center\;">\n<span style="font-size:14px\;"><span style="font-family: arial\;">Thank you to the&nbsp\;<span style="font-size:16px\;"><strong style="font-family: arial\; font-size: 12px\;">Sleep Inn</strong>&nbsp\;</span>for sponsoring the 2017-18 Marshall Area Young Professional events!</span></span></pre>\n
LOCATION:Bello Cucina 100 West College Drive Marshall\, MN
UID:e.499.5453
SEQUENCE:3
DTSTAMP:20260420T235409Z
URL:https://business.marshallmn.org/events/details/young-professionals-luncheon-5453
END:VEVENT

END:VCALENDAR
