BEGIN:VCALENDAR
VERSION:2.0
PRODID:-//ChamberMaster//Event Calendar 2.0//EN
METHOD:PUBLISH
X-PUBLISHED-TTL:P3D
REFRESH-INTERVAL:P3D
CALSCALE:GREGORIAN
BEGIN:VEVENT
DTSTART:20180131T230000Z
DTEND:20180201T010000Z
X-MICROSOFT-CDO-ALLDAYEVENT:FALSE
SUMMARY:Young Professionals Etiquette Dinner
DESCRIPTION:Professional Etiquette Dinner\nSpecial Guest Speaker: Pam Odland\n Business Casual attire is required\nLearning Appropriate Dinner Etiquette is More Than Just Manners\n\n\n\n\n\nPlease RSVP by Wednesday\, January 24th.
X-ALT-DESC;FMTTYPE=text/html:<pre style="text-align: center\;">\nProfessional Etiquette Dinner\nSpecial Guest Speaker: Pam Odland\n<strong>&#8203\;Business Casual attire is required</strong>\nLearning Appropriate Dinner Etiquette is More Than Just Manners\n\n</pre>\n\n<pre style="text-align: center\;">\n<span style="font-size: 12px\;"><span style="font-family: tahoma\;">\n<strong><span style="background-color: rgb(255\, 255\, 0)\;">Please RSVP by Wednesday\, January </span><span style="background-color: rgb(255\, 255\, 0)\;">24th</span></strong></span></span><strong><span style="font-family: tahoma\; font-size: 12px\;"><span style="background-color: rgb(255\, 255\, 0)\;">.</span></span></strong></pre>\n
LOCATION:Conference Center Upper Level Southwest Minnesota State University 1501 State Street
UID:e.499.5469
SEQUENCE:3
DTSTAMP:20260423T105146Z
URL:https://business.marshallmn.org/events/details/young-professionals-etiquette-dinner-5469
END:VEVENT

END:VCALENDAR
