BEGIN:VCALENDAR
VERSION:2.0
PRODID:-//ChamberMaster//Event Calendar 2.0//EN
METHOD:PUBLISH
X-PUBLISHED-TTL:P3D
REFRESH-INTERVAL:P3D
CALSCALE:GREGORIAN
BEGIN:VEVENT
DTSTART:20251017T220000Z
DTEND:20251018T020000Z
X-MICROSOFT-CDO-ALLDAYEVENT:FALSE
SUMMARY:Woodfire Pizza Night
DESCRIPTION:Every Saturday evening in October the woodfire oven will be rock'in pizzas. Enjoy our specialty woodfire pizzas from 5-9 p.m. each Saturday.
X-ALT-DESC;FMTTYPE=text/html:<span style="background-color:rgb(255\, 255\, 255)\; color:rgb(8\, 8\, 9)\; font-family:segoe ui historic\,segoe ui\,helvetica\,arial\,sans-serif\; font-size:15px">Every Saturday evening in October the woodfire oven will be rock&#39\;in pizzas. Enjoy our specialty woodfire pizzas from 5-9 p.m. each Saturday.</span>
LOCATION:Painted Prairie Vineyard 1575 250th Ave. Currie MN 56123
UID:e.499.22496
SEQUENCE:3
DTSTAMP:20260424T001720Z
URL:https://business.marshallmn.org/events/details/woodfire-pizza-night-10-17-2025-22496
END:VEVENT

END:VCALENDAR
