BEGIN:VCALENDAR
VERSION:2.0
PRODID:-//ChamberMaster//Event Calendar 2.0//EN
METHOD:PUBLISH
X-PUBLISHED-TTL:P3D
REFRESH-INTERVAL:P3D
CALSCALE:GREGORIAN
BEGIN:VEVENT
DTSTART:20220622T210000Z
DTEND:20220623T013000Z
X-MICROSOFT-CDO-ALLDAYEVENT:FALSE
SUMMARY:Woman Day 2022
DESCRIPTION:Calling all gals! Grab your friends for a party everyone can enjoy! Moms\, daughters\, teens\, grandmas\, wives\, singles   all are welcome for all the things to make a perfect girl's day away. We'll have flowers\, Italian sodas\, shopping\, sweets\, makeup\, massages\, and more!\n\n\n\nAttendee registration covers meal (The Hitching Post)\, beverage and dessert (Naptime Baking Co)\, a flower planting class (Schmiesing Flower Farm)\, spa services (The Escape Spa)\, door prize tickets and a ticket for this year's speaker Kristin Smith!  Vendors will be on site for shopping. Enjoy the grounds and pray for no rain this year!\n\n\n\nWednesday\, June 22\, 2022 4:00pm-8:30pm Heritage Event Center\n\nEvent Registration is open April 1!\n\nEveryone gets the early bird rate $85!\n\n \n\nThis event is hosted by Hope Harbor\, a non-profit organization working with teen girls and their parents who are in need of healing and reconciliation in their lives and families. It is intended to raise awareness and funds for the ministry of Hope Harbor\, to provide a fun event encouraging to woman\, to celebrate friendships and to promote local businesses.\n\n\n\nVendor Registration is open March 31. Visit our website for more details.
X-ALT-DESC;FMTTYPE=text/html:<div>Calling all gals! Grab your friends for a party everyone can enjoy! Moms\, daughters\, teens\, grandmas\, wives\, singles &ndash\; all are welcome for all the things to make a perfect girl&rsquo\;s day away. We&rsquo\;ll have flowers\, Italian sodas\, shopping\, sweets\, makeup\, massages\, and more!</div>\n\n<div><br />\nAttendee registration covers meal (The Hitching Post)\, beverage and dessert (Naptime Baking Co)\, a flower planting class (Schmiesing Flower Farm)\, spa services (The Escape Spa)\, door prize tickets and a ticket for this year&#39\;s speaker Kristin Smith!&nbsp\; Vendors will be on site for shopping. Enjoy the grounds and pray for no rain this year!</div>\n\n<div><br />\nWednesday\, June 22\, 2022 4:00pm-8:30pm Heritage Event Center<br />\nEvent Registration is open April 1!</div>\n\n<div>Everyone gets the early bird rate $85!<br />\n&nbsp\;</div>\n\n<div>This event is hosted by Hope Harbor\, a non-profit organization working with teen girls and their parents who are in need of healing and reconciliation in their lives and families. It is intended to raise awareness and funds for the ministry of Hope Harbor\, to provide a fun event encouraging to woman\, to celebrate friendships and to promote local businesses.</div>\n\n<div><br />\nVendor Registration is open March 31. Visit our website for more details.</div>\n
LOCATION:Heritage Event Center 3621 County Hwy 8 Taunton\, MN 56291
UID:e.499.17565
SEQUENCE:3
DTSTAMP:20260425T213203Z
URL:https://business.marshallmn.org/events/details/woman-day-2022-17565
END:VEVENT

END:VCALENDAR
