BEGIN:VCALENDAR
VERSION:2.0
PRODID:-//ChamberMaster//Event Calendar 2.0//EN
METHOD:PUBLISH
X-PUBLISHED-TTL:P3D
REFRESH-INTERVAL:P3D
CALSCALE:GREGORIAN
BEGIN:VEVENT
DTSTART:20241211T230000Z
DTEND:20241212T030000Z
X-MICROSOFT-CDO-ALLDAYEVENT:FALSE
SUMMARY:Wednesday Fish Fry in December
DESCRIPTION:Painted Prairie is excited to have Fish Fry Wednesdays in December! Enjoy the full menu or two featured Fish Fry specials---a delicious sandwich option with coleslaw or a full hand battered fish meal served with a baked potato and coleslaw.\n\nThe fish meal will be served from 5-8:30 p.m
X-ALT-DESC;FMTTYPE=text/html:<div>Painted Prairie is excited to have Fish Fry Wednesdays in December! Enjoy the full menu or two featured Fish Fry specials---a delicious sandwich option with coleslaw or a full hand battered fish meal served with a baked potato and coleslaw.</div>\n\n<div>The fish meal will be served from 5-8:30 p.m</div>\n
LOCATION:Painted Prairie Vineyard
UID:e.499.21877
SEQUENCE:3
DTSTAMP:20260423T123916Z
URL:https://business.marshallmn.org/events/details/wednesday-fish-fry-in-december-12-11-2024-21877
END:VEVENT

END:VCALENDAR
