BEGIN:VCALENDAR
VERSION:2.0
PRODID:-//ChamberMaster//Event Calendar 2.0//EN
METHOD:PUBLISH
X-PUBLISHED-TTL:P3D
REFRESH-INTERVAL:P3D
CALSCALE:GREGORIAN
BEGIN:VEVENT
DTSTART:20180406T150000Z
DTEND:20180406T180000Z
X-MICROSOFT-CDO-ALLDAYEVENT:FALSE
SUMMARY:Vast Broadband Walk-In Interviews
DESCRIPTION:Vast is expanding. Now is the perfect time to join our growing family of local\, talented people. \nVast Broadband is dedicated to employing local people   local technicians\, local service representatives and local managers. Our philosophy is simple: local people better serve local communities. \nVast is proud to offer our employees comprehensive benefits packages. Vast Broadband's employee benefits program offers employees freedom to choose benefits that best meet their needs.\n\n\n\nWe are currently hiring for a Residential Sales Rep and a Business Account Executive in the Marshall\, MN area.
X-ALT-DESC;FMTTYPE=text/html:<span style="font-size:14px"><span style="color:rgb(45\, 45\, 45)\; font-family:arial\,sans-serif">Vast is expanding. Now is the perfect time to join our growing family of local\, talented people. </span></span>\n<p><span style="font-size:14px"><span style="color:rgb(45\, 45\, 45)\; font-family:arial\,sans-serif">Vast Broadband is dedicated to employing local people &ndash\; local technicians\, local service representatives and local managers. Our philosophy is simple: local people better serve local communities. </span></span></p>\n<span style="color:rgb(45\, 45\, 45)\; font-family:arial\,sans-serif\; font-size:11pt"><span style="font-size:14px">Vast is proud to offer our employees comprehensive benefits packages. Vast Broadband&rsquo\;s employee benefits program offers employees freedom to choose benefits that best meet their needs.<br />\n<br />\nWe are currently hiring for a&nbsp\;Residential Sales Rep and a Business Account Executive in the Marshall\, MN area. </span></span><br />\n&nbsp\;
LOCATION:1507 E Lyon\, Marshall\, MN
UID:e.499.5511
SEQUENCE:3
DTSTAMP:20260425T001342Z
URL:https://business.marshallmn.org/events/details/vast-broadband-walk-in-interviews-5511
END:VEVENT

END:VCALENDAR
