BEGIN:VCALENDAR
VERSION:2.0
PRODID:-//ChamberMaster//Event Calendar 2.0//EN
METHOD:PUBLISH
X-PUBLISHED-TTL:P3D
REFRESH-INTERVAL:P3D
CALSCALE:GREGORIAN
BEGIN:VEVENT
DTSTART;VALUE=DATE:20260531
DTEND;VALUE=DATE:20260604
TRANSP:TRANSPARENT
X-MICROSOFT-CDO-ALLDAYEVENT:TRUE
SUMMARY:Vacation Bible School (VBS) at Living Word!
DESCRIPTION:Come with us to Rainforest Falls at Living Word!\n\n\n\nVBS will be held in the evenings on Sunday\, May 31\, through Wednesday\, June 3. All children 4-years-old (by VBS) through 5th grade (25-26 school year) are welcome to attend!\n\n \nThis year's theme is Rainforest Falls: Exploring the Nature of God. Step through the mist into Rainforest Falls\, overflowing with wild waterfalls\, towering trees\, and colorful creatures. Beneath a canopy of chattering birds and howling monkeys\, kids plunge into a lifelong adventure of discovering the nature of God. They'll explore what it means to be rooted in relationship with God\, their creator\, a safe place in life's storms.\n\n \n\nRegister today! We are asking all children and volunteers to register in advance - no later than Sunday\, May 24.\n\n\nLearn More + Register: https://livingwordmarshall.churchcenter.com/registrations/events/3532052
X-ALT-DESC;FMTTYPE=text/html:<span style="color:#000000"><span style="font-family:tahoma\,verdana\,segoe\,sans-serif"><strong>Come with us to Rainforest Falls at Living Word!</strong><br />\n<br />\nVBS will be h</span></span>eld in the evenings on Sunday\, May 31\, through Wednesday\, June 3. All children 4-years-old (by VBS) through 5th grade (25-26 school year) are welcome to attend!<br />\n&nbsp\;\n<div>This year&#39\;s theme is Rainforest Falls: Exploring the Nature of God. Step through the mist into Rainforest Falls\, overflowing with wild waterfalls\, towering trees\, and colorful creatures. Beneath a canopy of chattering birds and howling monkeys\, kids plunge into a lifelong adventure of discovering the nature of God. They&rsquo\;ll explore what it means to be rooted in relationship with God\, their creator\, a safe place in life&rsquo\;s storms.<br />\n&nbsp\;</div>\n\n<div>Register today! We are asking all children and volunteers to register in advance - no later than Sunday\, May 24.</div>\n<br />\nLearn More + Register:&nbsp\;<span style="color:rgb(61\, 61\, 61)\; font-family:ui-sans-serif\,system-ui\,sans-serif\,apple color emoji\,segoe ui emoji\,segoe ui symbol\,noto color emoji\; font-size:16px">https://livingwordmarshall.churchcenter.com/registrations/events/3532052</span>
LOCATION:Living Word Church 800 E Southview Ct Marshall\, MN 56258
UID:e.499.23004
SEQUENCE:3
DTSTAMP:20260424T004457Z
URL:https://business.marshallmn.org/events/details/vacation-bible-school-vbs-at-living-word-23004
END:VEVENT

END:VCALENDAR
