BEGIN:VCALENDAR
VERSION:2.0
PRODID:-//ChamberMaster//Event Calendar 2.0//EN
METHOD:PUBLISH
X-PUBLISHED-TTL:P3D
REFRESH-INTERVAL:P3D
CALSCALE:GREGORIAN
BEGIN:VEVENT
DTSTART:20251031T230000Z
DTEND:20251101T010000Z
X-MICROSOFT-CDO-ALLDAYEVENT:FALSE
SUMMARY:Trunk Or Treat
DESCRIPTION:Join the Suite Liv'n residents for some "Spooky" fun\, and vote for the best carving in our community Pumpkin Carving Contest! Candy\, Waters\, and Halloween fun!
X-ALT-DESC;FMTTYPE=text/html:Join the Suite Liv&#39\;n residents for some &quot\;Spooky&quot\; fun\, and vote for the best carving in our community Pumpkin Carving Contest! Candy\, Waters\, and Halloween fun!
LOCATION:402 Village Dr. - Open Lot- Marshall MN 56258
UID:e.499.22520
SEQUENCE:3
DTSTAMP:20260424T001321Z
URL:https://business.marshallmn.org/events/details/trunk-or-treat-10-31-2025-22520
END:VEVENT

END:VCALENDAR
