BEGIN:VCALENDAR
VERSION:2.0
PRODID:-//ChamberMaster//Event Calendar 2.0//EN
METHOD:PUBLISH
X-PUBLISHED-TTL:P3D
REFRESH-INTERVAL:P3D
CALSCALE:GREGORIAN
BEGIN:VEVENT
DTSTART:20250207T003000Z
DTEND:20250207T023000Z
X-MICROSOFT-CDO-ALLDAYEVENT:FALSE
SUMMARY:Traveling trivia at Varsity Pub
DESCRIPTION:Put on your thinking caps and sharpen your pencils its trivia night! Round one worksheet starts at 630pm. Live rounds start at 700 pm. Prizes will be awarded! Free to play. 5 rounds of questions. Up to 4 people per team. No cellphones are allowed after round 1. Like our facebook page to stay tuned for each round categories so you can study. Or sign up for our email list at https://www.pushplaydj.com/traveling-trivia
X-ALT-DESC;FMTTYPE=text/html:Put on your thinking caps and sharpen your pencils its trivia night! Round one worksheet starts at 630pm. Live rounds start at 700 pm. Prizes will be awarded! Free to play. 5 rounds of questions. Up to 4 people per team. No cellphones are allowed after round 1. Like our facebook page to stay tuned for each round categories so you can study. Or sign up for our email list at https://www.pushplaydj.com/traveling-trivia
LOCATION:Varsity pub
UID:e.499.21906
SEQUENCE:3
DTSTAMP:20260423T133808Z
URL:https://business.marshallmn.org/events/details/traveling-trivia-at-varsity-pub-21906
END:VEVENT

END:VCALENDAR
