BEGIN:VCALENDAR
VERSION:2.0
PRODID:-//ChamberMaster//Event Calendar 2.0//EN
METHOD:PUBLISH
X-PUBLISHED-TTL:P3D
REFRESH-INTERVAL:P3D
CALSCALE:GREGORIAN
BEGIN:VEVENT
DTSTART:20250130T003000Z
DTEND:20250130T023000Z
X-MICROSOFT-CDO-ALLDAYEVENT:FALSE
SUMMARY:Traveling trivia at St. Stephen church. Fundraiser for their youth group
DESCRIPTION:Traveling trivia fundraiser for St. Stephen's church youth group! Let's help the kids out. Come early to save your seat! This will be at St. Stephen's church in fellowship hall. 1301 S 4th st in Marshall. Put on your thinking caps and sharpen your pencils its trivia night! Round one worksheet starts at 630 pm. Live rounds start at 700 pm. Prizes will be awarded! since this is a fundraiser the youth group is asking for a $20 per team donation but is not required. They will also have food and beverages for sale. ***FUNDRAISER EXCLUSIVE*** Mulligans will also be available to turn a wrong answer into a correct one. Mulligans are $5 each with a maximum of 5. 5 rounds of questions. Up to 4 people per team. No cellphones are allowed after round 1. All of the money from Trivia and the food will go to the kids trip. Like our facebook page to stay tuned for each round categories so you can study. Or sign up for our email list at https://www.pushplaydj.com/traveling-trivia
X-ALT-DESC;FMTTYPE=text/html:Traveling trivia fundraiser for St. Stephen&#39\;s church youth group! Let&#39\;s help the kids out. Come early to save your seat! This will be at St. Stephen&#39\;s church in fellowship hall. 1301 S 4th st in Marshall. Put on your thinking caps and sharpen your pencils its trivia night! Round one worksheet starts at 630 pm. Live rounds start at 700 pm. Prizes will be awarded! since this is a fundraiser the youth group is asking for a $20 per team donation but is not required. They will also have food and beverages for sale. ***FUNDRAISER EXCLUSIVE*** Mulligans will also be available to turn a wrong answer into a correct one. Mulligans are $5 each with a maximum of 5. 5 rounds of questions. Up to 4 people per team. No cellphones are allowed after round 1. All of the money from Trivia and the food will go to the kids trip. Like our facebook page to stay tuned for each round categories so you can study. Or sign up for our email list at https://www.pushplaydj.com/traveling-trivia
LOCATION:St. Stephen church
UID:e.499.21907
SEQUENCE:3
DTSTAMP:20260423T134055Z
URL:https://business.marshallmn.org/events/details/traveling-trivia-at-st-stephen-church-fundraiser-for-their-youth-group-21907
END:VEVENT

END:VCALENDAR
