BEGIN:VCALENDAR
VERSION:2.0
PRODID:-//ChamberMaster//Event Calendar 2.0//EN
METHOD:PUBLISH
X-PUBLISHED-TTL:P3D
REFRESH-INTERVAL:P3D
CALSCALE:GREGORIAN
BEGIN:VEVENT
DTSTART:20250619T210000Z
DTEND:20250619T220000Z
X-MICROSOFT-CDO-ALLDAYEVENT:FALSE
SUMMARY:Thursday Venture in the Vines
DESCRIPTION:Venture in Vines\n\nTaste your way through the vineyard with four of our finest wines paired with decadent chocolate! Savor Painted Prairie's vineyard and estate with each sip\, bite\, and nugget of wisdom about the vines. Then\, relax on the patio with your favorite pour overlooking the prairie.\n\nOnly the finest wines for Venture in the Vines. This tour includes our Estate Wines\, Starry Night and Shimmer\, Marquette Ros \, and Frontenac Ros . \n\nVenture in the Vines is 1 hour of vineyard bliss with a total of 10 besties. Grab your friends and come venture in the vines!\n\nThursdays tour is at 4:00 pm.\n\nYou will start at the main tasting room\, the Pavilion.\n\n\n\nCost is $35 per person and pre-purchased tickets are strongly encouraged.
X-ALT-DESC;FMTTYPE=text/html:<p>Venture in Vines</p>\n\n<p>Taste your way through the vineyard with four of our finest wines paired with decadent chocolate! Savor Painted Prairie&rsquo\;s vineyard and estate with each sip\, bite\, and nugget of wisdom about the vines. Then\, relax on the patio with your favorite pour overlooking the prairie.</p>\n\n<p>Only the finest wines for Venture in the Vines. This tour includes our Estate Wines\, Starry Night and Shimmer\, Marquette Ros&eacute\;\, and Frontenac Ros&eacute\;.&nbsp\;</p>\n\n<p>Venture in the Vines is 1 hour of vineyard bliss with a total of 10 besties. Grab your friends and come venture in the vines!</p>\n\n<p>Thursdays tour is at 4:00 pm.</p>\n\n<p>You will start at the main tasting room\, the Pavilion.<br />\n<br />\nCost is $35 per person and pre-purchased tickets are strongly encouraged.&nbsp\;</p>\n
LOCATION:Painted Prairie Vineyard 1575 250th Ave. Currie\, MN 56123
UID:e.499.22243
SEQUENCE:3
DTSTAMP:20260423T184451Z
URL:https://business.marshallmn.org/events/details/thursday-venture-in-the-vines-22243
END:VEVENT

END:VCALENDAR
