BEGIN:VCALENDAR
VERSION:2.0
PRODID:-//ChamberMaster//Event Calendar 2.0//EN
METHOD:PUBLISH
X-PUBLISHED-TTL:P3D
REFRESH-INTERVAL:P3D
CALSCALE:GREGORIAN
BEGIN:VEVENT
DTSTART:20250911T211500Z
DTEND:20250911T220000Z
X-MICROSOFT-CDO-ALLDAYEVENT:FALSE
SUMMARY:The Ponds Disc Golf Course Ribbon Cutting
DESCRIPTION:You're invited to The Pond's Disc Golf Course Ribbon Cutting Ceremony Thursday\, September 11th beginning at 4:15 p.m. Join us for free disc golf lessons during the ribbon cutting celebration - perfect for beginners and seasoned players alike!
X-ALT-DESC;FMTTYPE=text/html:You&#39\;re invited to The Pond&#39\;s Disc Golf Course Ribbon Cutting Ceremony Thursday\, September 11th beginning at 4:15 p.m. Join us for free disc golf lessons during the ribbon cutting celebration - perfect for beginners and seasoned players alike!
LOCATION:Independence Park - Back Parking lot - 360 G Street\, Marshall\, MN
UID:e.499.22352
SEQUENCE:3
DTSTAMP:20260423T222520Z
URL:https://business.marshallmn.org/events/details/the-ponds-disc-golf-course-ribbon-cutting-09-11-2025-22352
END:VEVENT

END:VCALENDAR
