BEGIN:VCALENDAR
VERSION:2.0
PRODID:-//ChamberMaster//Event Calendar 2.0//EN
METHOD:PUBLISH
X-PUBLISHED-TTL:P3D
REFRESH-INTERVAL:P3D
CALSCALE:GREGORIAN
BEGIN:VEVENT
DTSTART:20250621T170000Z
DTEND:20250622T020000Z
X-MICROSOFT-CDO-ALLDAYEVENT:FALSE
SUMMARY:Summer Wine Festival and Wine Crawl
DESCRIPTION:Painted Prairie is celebrating the first day of summer with a Wine Festival! Join us on June 21st from 12-9 p.m. for new wine releases\, live music\, woodfire pizza and the first views of our glamping sites!\n\n\n\nFree admission\, the schedule day include:\n\n\n\nLive Music featuring Sue Nelson from 1-4 p.m.\n\n\n\nA free wine crawl from 3-5 p.m. with four stops on the property including the two new glamping sites. New vintage releases include La Crescent 2023\, Painted Apple\, Prairie Apple\, and Brianna 2023.\n\n\n\nLive Music featuring Kayla Daniels from 5-8 p.m.\n\n\n\nComplimentary smores at the fire pit during the evening hours.\n\n\n\nWoodfire pizza menu will be featured during open hours from 12-9 p.m
X-ALT-DESC;FMTTYPE=text/html:<div>Painted Prairie is celebrating the first day of summer with a Wine Festival! Join us on June 21st from 12-9 p.m. for new wine releases\, live music\, woodfire pizza and the first views of our glamping sites!</div>\n\n<div><br />\nFree admission\, the schedule day include:</div>\n\n<div><br />\nLive Music featuring Sue Nelson from 1-4 p.m.</div>\n\n<div><br />\nA free wine crawl from 3-5 p.m. with four stops on the property including the two new glamping sites. New vintage releases include La Crescent 2023\, Painted Apple\, Prairie Apple\, and Brianna 2023.</div>\n\n<div><br />\nLive Music featuring Kayla Daniels from 5-8 p.m.</div>\n\n<div><br />\nComplimentary smores at the fire pit during the evening hours.</div>\n\n<div><br />\nWoodfire pizza menu will be featured during open hours from 12-9 p.m</div>\n
LOCATION:Painted Prairie Vineyard 1575 250th Ave. Currie\, MN 56123
UID:e.499.22255
SEQUENCE:3
DTSTAMP:20260423T184620Z
URL:https://business.marshallmn.org/events/details/summer-wine-festival-and-wine-crawl-22255
END:VEVENT

END:VCALENDAR
