BEGIN:VCALENDAR
VERSION:2.0
PRODID:-//ChamberMaster//Event Calendar 2.0//EN
METHOD:PUBLISH
X-PUBLISHED-TTL:P3D
REFRESH-INTERVAL:P3D
CALSCALE:GREGORIAN
BEGIN:VEVENT
DTSTART:20250713T000000Z
DTEND:20250713T020000Z
X-MICROSOFT-CDO-ALLDAYEVENT:FALSE
SUMMARY:Summer Concert Series at Painted Prairie: Anthony Shore's Elvis Tribute Show
DESCRIPTION:Experience the magic of Elvis with Anthony Shore's tribute show. Performing the King of Rock's legendary hits\, step back in time as the Rock and Roll classics are brought to life in this unforgettable evening. \n\nIndividual Tickets: $45\n\nGet the VIP Experience\n\nElvis VIP Tickets are $75 and include:\n\n  VIP lounge access \n\n  Complimentary drinks and appetizers before every concert (5:45 to start of concert)\n\n  Tickets to the concert of your choice\n\n  Front row seats\n\n \n\nSAVE with 3 Concert VIP Experience\n\nVIP Tickets are $195 and include:\n\n  VIP lounge access \n\n  Complimentary drinks and appetizers before every concert (5:45 to start of concert)\n\n  Tickets to all 3 concerts\n\n  Front row seats\n\n \n\nVIP ticket holders can gift/transfer a concert ticket to another party.
X-ALT-DESC;FMTTYPE=text/html:<p>Experience the magic of Elvis with Anthony Shore&rsquo\;s tribute show. Performing the King of Rock&rsquo\;s legendary hits\, step back in time as the Rock and Roll classics are brought to life in this unforgettable evening.&nbsp\;</p>\n\n<p><strong>Individual Tickets: $45</strong></p>\n\n<p><strong>Get the VIP Experience</strong></p>\n\n<p>Elvis VIP Tickets are $75 and include:</p>\n\n<p>&rarr\; VIP lounge access&nbsp\;</p>\n\n<p>&rarr\; Complimentary drinks and appetizers before every concert (5:45 to start of concert)</p>\n\n<p>&rarr\; Tickets to the concert of your choice</p>\n\n<p>&rarr\; Front row seats</p>\n\n<p>&nbsp\;</p>\n\n<p><strong>SAVE with 3 Concert VIP Experience</strong></p>\n\n<p>VIP Tickets are $195 and include:</p>\n\n<p>&rarr\; VIP lounge access&nbsp\;</p>\n\n<p>&rarr\; Complimentary drinks and appetizers before every concert (5:45 to start of concert)</p>\n\n<p>&rarr\; Tickets to all 3 concerts</p>\n\n<p>&rarr\; Front row seats</p>\n\n<p>&nbsp\;</p>\n\n<p>VIP ticket holders can gift/transfer a concert ticket to another party.</p>\n
LOCATION:Painted Prairie Vineyard 1575 250th Ave. Currie\, MN 56123
UID:e.499.22193
SEQUENCE:3
DTSTAMP:20260423T200834Z
URL:https://business.marshallmn.org/events/details/summer-concert-series-at-painted-prairie-anthony-shore-s-elvis-tribute-show-22193
END:VEVENT

END:VCALENDAR
