BEGIN:VCALENDAR
VERSION:2.0
PRODID:-//ChamberMaster//Event Calendar 2.0//EN
METHOD:PUBLISH
X-PUBLISHED-TTL:P3D
REFRESH-INTERVAL:P3D
CALSCALE:GREGORIAN
BEGIN:VEVENT
DTSTART:20250222T230000Z
DTEND:20250223T030000Z
X-MICROSOFT-CDO-ALLDAYEVENT:FALSE
SUMMARY:Stargazing and Snowshoeing at the Vineyard
DESCRIPTION:Grab your snowshoes (yes\, we are hopeful for some white stuff soon!) and get ready for an evening of exploring the grounds of Painted Prairie while taking in the breath-taking night views!\n\nCome on out between 5-9 p.m on Friday\, the 21st and Saturday the 22nd with your snowshoes (or hike). Bring a night light\, wear warm clothes and take off!\n\nThe tasting room will be open throughout both evenings.\n\nNo reservations required. We will not have snowshoes for rent. If you need a list of recommended places to do so\, we would be happy to assist.\n\nCheers! \n\nSee less\n\n\n\n\nDovray\, M
X-ALT-DESC;FMTTYPE=text/html:<div><span dir="auto" style="background-color:rgb(255\, 255\, 255)\; color:var(--primary-text)\; font-family:segoe ui historic\,segoe ui\,helvetica\,arial\,sans-serif\; font-size:0.9375rem">Grab your snowshoes (yes\, we are hopeful for some white stuff soon!) and get ready for an evening of exploring the grounds of Painted Prairie while taking in the breath-taking night views!</span></div>\n\n<div><span dir="auto" style="background-color:rgb(255\, 255\, 255)\; color:var(--primary-text)\; font-family:segoe ui historic\,segoe ui\,helvetica\,arial\,sans-serif\; font-size:0.9375rem">Come on out between 5-9 p.m on Friday\, the 21st and Saturday the 22nd with your snowshoes (or hike). Bring a night light\, wear warm clothes and take off!</span></div>\n\n<div><span dir="auto" style="background-color:rgb(255\, 255\, 255)\; color:var(--primary-text)\; font-family:segoe ui historic\,segoe ui\,helvetica\,arial\,sans-serif\; font-size:0.9375rem">The tasting room will be open throughout both evenings.</span></div>\n\n<div><span dir="auto" style="background-color:rgb(255\, 255\, 255)\; color:var(--primary-text)\; font-family:segoe ui historic\,segoe ui\,helvetica\,arial\,sans-serif\; font-size:0.9375rem">No reservations required. We will not have snowshoes for rent. If you need a list of recommended places to do so\, we would be happy to assist.</span></div>\n\n<div><span dir="auto" style="background-color:rgb(255\, 255\, 255)\; color:var(--primary-text)\; font-family:segoe ui historic\,segoe ui\,helvetica\,arial\,sans-serif\; font-size:0.9375rem">Cheers!&nbsp\;</span>\n\n<div style="text-align:inherit"><span dir="auto" style="background-color:rgb(255\, 255\, 255)\; color:var(--primary-text)\; font-family:segoe ui historic\,segoe ui\,helvetica\,arial\,sans-serif\; font-size:0.9375rem">See less</span></div>\n</div>\n\n<div>\n<div>\n<div><a class="x1i10hfl xjbqb8w x1ejq31n xd10rxx x1sy0etr x17r0tee x972fbf xcfux6l x1qhh985 xm0m39n x9f619 x1ypdohk xt0psk2 xe8uvvx xdj266r x11i5rnm xat24cr x1mh8g0r xexx8yu x4uap5 x18d9i69 xkhd6sd x16tdsg8 x1hl2dhg xggy1nq x1a2a7pz x1heor9g x1sur9pj xkrqix3 x1s688f" href="https://www.facebook.com/events/explore/dovray-minnesota/112093782137091/" style="cursor: pointer\; text-decoration-line: none\; list-style: none\; margin: 0px\; text-align: inherit\; border-style: none\; padding: 0px\; box-sizing: border-box\; border-width: 0px\; outline: none\; -webkit-tap-highlight-color: transparent\; font-weight: 600\; touch-action: manipulation\; background-color: transparent\; display: inline\; font-family: inherit\;" tabindex="0"><span dir="auto" style="color:var(--primary-text)\; font-family:inherit\; font-size:0.8125rem">Dovray\, M</span></a></div>\n</div>\n</div>\n
LOCATION:Painted Prairie Vineyard 1575 250th Ave. Currie\, MN 56123
UID:e.499.21965
SEQUENCE:3
DTSTAMP:20260423T134056Z
URL:https://business.marshallmn.org/events/details/stargazing-and-snowshoeing-at-the-vineyard-02-22-2025-21965
END:VEVENT

END:VCALENDAR
