BEGIN:VCALENDAR
VERSION:2.0
PRODID:-//ChamberMaster//Event Calendar 2.0//EN
METHOD:PUBLISH
X-PUBLISHED-TTL:P3D
REFRESH-INTERVAL:P3D
CALSCALE:GREGORIAN
BEGIN:VEVENT
DTSTART:20260521T170000Z
DTEND:20260521T180000Z
X-MICROSOFT-CDO-ALLDAYEVENT:FALSE
SUMMARY:Spring Cleaning\, Moving\, & Shop Cleaning
DESCRIPTION:Join the Lyon County Environmental Department for a free class about making spring cleaning or moving less stressful and more eco-friendly! Come learn how to go through all of the things you own without becoming overwhelmed and learn the best places to donate\, reuse\, or recycle items to keep more things from going to the landfill.
X-ALT-DESC;FMTTYPE=text/html:<span style="background-color:rgb(255\, 255\, 255)\; color:rgb(20\, 24\, 39)\; font-family:helvetica neue\,helvetica\,-apple-system\,blinkmacsystemfont\,roboto\,arial\,sans-serif\; font-size:18px">Join the&nbsp\;</span><a href="https://www.lyonco.org/departments/environmental" style="box-sizing: border-box\; background-color: rgb(255\, 255\, 255)\; color: rgb(110\, 121\, 64)\; text-decoration: none\; border-bottom: 1px solid rgb(110\, 121\, 64)\; transition: color 0.2s\; font-family: &quot\;Helvetica Neue&quot\;\, Helvetica\, -apple-system\, BlinkMacSystemFont\, Roboto\, Arial\, sans-serif\; font-size: 18px\;">Lyon County Environmental Department</a><span style="background-color:rgb(255\, 255\, 255)\; color:rgb(20\, 24\, 39)\; font-family:helvetica neue\,helvetica\,-apple-system\,blinkmacsystemfont\,roboto\,arial\,sans-serif\; font-size:18px">&nbsp\;for a free class about making spring cleaning or moving less stressful and more eco-friendly! Come learn how to go through all of the things you own without becoming overwhelmed and learn the best places to donate\, reuse\, or recycle items to keep more things from going to the landfill.</span>
LOCATION:
UID:e.499.23009
SEQUENCE:3
DTSTAMP:20260424T004304Z
URL:https://business.marshallmn.org/events/details/spring-cleaning-moving-shop-cleaning-23009
END:VEVENT

END:VCALENDAR
