BEGIN:VCALENDAR
VERSION:2.0
PRODID:-//ChamberMaster//Event Calendar 2.0//EN
METHOD:PUBLISH
X-PUBLISHED-TTL:P3D
REFRESH-INTERVAL:P3D
CALSCALE:GREGORIAN
BEGIN:VEVENT
DTSTART:20250209T200000Z
DTEND:20250209T220000Z
X-MICROSOFT-CDO-ALLDAYEVENT:FALSE
SUMMARY:Special Event and Wedding Open House
DESCRIPTION:Painted Prairie is hosting a special event and wedding open house on Sunday\, February 9th from 2-4 p.m. This is a fantastic opportunity to come on out to Painted Prairie\, ask questions regarding the packages\, see the 2025 pricing and newly updated catering menus for all types of celebrations. If you wish to reserve a time for a tour\, this would need to be on a separate date. The goal of this event is to get a taste of what Painted Prairie can offer for showers\, class reunions\, birthdays\, and small to medium size weddings. The cost is free\, but we ask you to grab a spot for a complimentary glass of wine!
X-ALT-DESC;FMTTYPE=text/html:<span style="background-color:rgb(255\, 255\, 255)\; color:rgb(8\, 8\, 9)\; font-family:segoe ui historic\,segoe ui\,helvetica\,arial\,sans-serif\; font-size:15px">Painted Prairie is hosting a special event and wedding open house on Sunday\, February 9th from 2-4 p.m. This is a fantastic opportunity to come on out to Painted Prairie\, ask questions regarding the packages\, see the 2025 pricing and newly updated catering menus for all types of celebrations. If you wish to reserve a time for a tour\, this would need to be on a separate date. The goal of this event is to get a taste of what Painted Prairie can offer for showers\, class reunions\, birthdays\, and small to medium size weddings. The cost is free\, but we ask you to grab a spot for a complimentary glass of wine!&nbsp\;</span>
LOCATION:Painted Prairie Vineyard 1575 250th Ave. Currie\, MN 56123
UID:e.499.21961
SEQUENCE:3
DTSTAMP:20260423T144557Z
URL:https://business.marshallmn.org/events/details/special-event-and-wedding-open-house-21961
END:VEVENT

END:VCALENDAR
