BEGIN:VCALENDAR
VERSION:2.0
PRODID:-//ChamberMaster//Event Calendar 2.0//EN
METHOD:PUBLISH
X-PUBLISHED-TTL:P3D
REFRESH-INTERVAL:P3D
CALSCALE:GREGORIAN
BEGIN:VEVENT
DTSTART:20220410T190000Z
DTEND:20220410T210000Z
X-MICROSOFT-CDO-ALLDAYEVENT:FALSE
SUMMARY:SMSU Theatre-The Cherry Orchard
DESCRIPTION:SMSU Theatre presents a classic play\, 'The Cherry Orchard' by Anton Chekhov\, adapted by Emily Mann. Alternately funny and touching\, 'The Cherry Orchard' follows Lyubov and her family in 1904 as the fate of their cash-poor estate and its beautiful orchard is uncertain. Colorful personalities and clashing ideals complicate matters\, against a backdrop of social and economic transition that signals the end of the family's way of life.
X-ALT-DESC;FMTTYPE=text/html:SMSU Theatre presents a classic play\, &#39\;The Cherry Orchard&#39\; by Anton Chekhov\, adapted by Emily Mann. Alternately funny and touching\, &#39\;The Cherry Orchard&#39\; follows Lyubov and her family in 1904 as the fate of their cash-poor estate and its beautiful orchard is uncertain. Colorful personalities and clashing ideals complicate matters\, against a backdrop of social and economic transition that signals the end of the family&rsquo\;s way of life.
LOCATION:SMSU Fine Arts Theatre\, free parking in lot B-1
UID:e.499.17556
SEQUENCE:3
DTSTAMP:20260426T001525Z
URL:https://business.marshallmn.org/events/details/smsu-theatre-the-cherry-orchard-17556
END:VEVENT

END:VCALENDAR
