BEGIN:VCALENDAR
VERSION:2.0
PRODID:-//ChamberMaster//Event Calendar 2.0//EN
METHOD:PUBLISH
X-PUBLISHED-TTL:P3D
REFRESH-INTERVAL:P3D
CALSCALE:GREGORIAN
BEGIN:VEVENT
DTSTART:20251102T213000Z
DTEND:20251124T000000Z
X-MICROSOFT-CDO-ALLDAYEVENT:FALSE
SUMMARY:SMSU Softball Fall Clinics
DESCRIPTION:SMSU Softball is hosting our annual 4 Week Skills Academies which will run November 2nd\, 9th\, 16th\, & 23rd on SMSU Campus. We will cover the areas of Pitching\, Catching\, Hitting\, & Fielding. Pitching camp will run in 30 minute time slots with available times of 3:30pm\, 4pm\, 4:30pm\, & 5pm. A parent is preferred to catch. Catching camp will run in 30 minute time slots with available times of 3:30pm\, 4pm\, 4:30pm\, & 5pm. Hitting & Fielding will run two 1-hour time slots. 4-5pm & 5-6pm Each camp will cover basic skills & fundamentals. The goal is for campers to see progress over four consecutive weeks.
X-ALT-DESC;FMTTYPE=text/html:SMSU Softball is hosting our annual 4 Week Skills Academies which will run November 2nd\, 9th\, 16th\, &amp\; 23rd on SMSU Campus. We will cover the areas of Pitching\, Catching\, Hitting\, &amp\; Fielding. Pitching camp will run in 30 minute time slots with available times of 3:30pm\, 4pm\, 4:30pm\, &amp\; 5pm. A parent is preferred to catch. Catching camp will run in 30 minute time slots with available times of 3:30pm\, 4pm\, 4:30pm\, &amp\; 5pm. Hitting &amp\; Fielding will run two 1-hour time slots. 4-5pm &amp\; 5-6pm Each camp will cover basic skills &amp\; fundamentals. The goal is for campers to see progress over four consecutive weeks.
LOCATION:PE Gym & RA Facility on SMSU Campus
UID:e.499.22375
SEQUENCE:3
DTSTAMP:20260424T001904Z
URL:https://business.marshallmn.org/events/details/smsu-softball-fall-clinics-22375
END:VEVENT

END:VCALENDAR
