BEGIN:VCALENDAR
VERSION:2.0
PRODID:-//ChamberMaster//Event Calendar 2.0//EN
METHOD:PUBLISH
X-PUBLISHED-TTL:P3D
REFRESH-INTERVAL:P3D
CALSCALE:GREGORIAN
BEGIN:VEVENT
DTSTART:20260219T210000Z
DTEND:20260219T223000Z
X-MICROSOFT-CDO-ALLDAYEVENT:FALSE
SUMMARY:SMSU Presidential Presentation Reception
DESCRIPTION:On February 18th\, the Board of Trustees will name the next President of SMSU! The Chancellor and named President will then travel to campus for a welcome reception on Thursday\, February 19th at 3:00 pm in Upper CC. You will hear from Chancellor Olson\, the next named President of SMSU\, then have an opportunity to socialize with the individual and campus community with desserts and refreshments! Please plan to attend! Let's fill the room with Mustang spirit!
X-ALT-DESC;FMTTYPE=text/html:On February 18th\, the Board of Trustees will name the next President of SMSU! The Chancellor and named President will then travel to campus for a welcome reception on Thursday\, February 19th at 3:00 pm in Upper CC. You will hear from Chancellor Olson\, the next named President of SMSU\, then have an opportunity to socialize with the individual and campus community with desserts and refreshments! Please plan to attend! Let&#39\;s fill the room with Mustang spirit!
LOCATION:SMSU - Upper Level Conference Center
UID:e.499.22864
SEQUENCE:3
DTSTAMP:20260424T020448Z
URL:https://business.marshallmn.org/events/details/smsu-presidential-presentation-reception-22864
END:VEVENT

END:VCALENDAR
