BEGIN:VCALENDAR
VERSION:2.0
PRODID:-//ChamberMaster//Event Calendar 2.0//EN
METHOD:PUBLISH
X-PUBLISHED-TTL:P3D
REFRESH-INTERVAL:P3D
CALSCALE:GREGORIAN
BEGIN:VEVENT
DTSTART:20260327T230000Z
DTEND:20260328T003000Z
X-MICROSOFT-CDO-ALLDAYEVENT:FALSE
SUMMARY:SMSU Fine Arts Roundup - A Showcase of Fine Arts & Performances
DESCRIPTION:Come out and enjoy a preview of upcoming events from the SMSU Fine Arts Celebration. The evening begins at 6:00 p.m. in commons area of the Bellows Academic Building and the Whipple Gallery with complementary appetizers prepared by the Student Hospitality Opportunities Club and a cash bar by the Hitching Post. After a short program\, choose from your favorite performances by the SMSU Chorale\, the cast of "Tartuffe"\, the SMSU Chamber Winds\, readings by SMSU Creative Writing Students\, work by students of the Art & Design Program\, videos from the students of the Broadcast Digital Media Program\, as well as exhibits of student work from all programs of the Department of Fine Arts & Communication.
X-ALT-DESC;FMTTYPE=text/html:Come out and enjoy a preview of upcoming events from the SMSU Fine Arts Celebration. The evening begins at 6:00 p.m. in commons area of the Bellows Academic Building and the Whipple Gallery with complementary appetizers prepared by the Student Hospitality Opportunities Club and a cash bar by the Hitching Post. After a short program\, choose from your favorite performances by the SMSU Chorale\, the cast of &ldquo\;Tartuffe&rdquo\;\, the SMSU Chamber Winds\, readings by SMSU Creative Writing Students\, work by students of the Art &amp\; Design Program\, videos from the students of the Broadcast Digital Media Program\, as well as exhibits of student work from all programs of the Department of Fine Arts &amp\; Communication.
LOCATION:Bellows Lobby\, Whipple Gallery\, & Charter Hall (SMSU Campus)
UID:e.499.22902
SEQUENCE:3
DTSTAMP:20260424T163834Z
URL:https://business.marshallmn.org/events/details/smsu-fine-arts-roundup-a-showcase-of-fine-arts-performances-22902
END:VEVENT

END:VCALENDAR
