BEGIN:VCALENDAR
VERSION:2.0
PRODID:-//ChamberMaster//Event Calendar 2.0//EN
METHOD:PUBLISH
X-PUBLISHED-TTL:P3D
REFRESH-INTERVAL:P3D
CALSCALE:GREGORIAN
BEGIN:VEVENT
DTSTART:20220227T013000Z
DTEND:20220227T030000Z
X-MICROSOFT-CDO-ALLDAYEVENT:FALSE
SUMMARY:SMSU Drama Club: Metamorphoses
DESCRIPTION:SMSU Drama Club Presents Metamorphoses! \n\n"The play is based on Ovid's Metamorphoses and features stories from Greek mythology. Some of the stories include King Midas\, Orpheus and Eurydice\, and Eros and Psyche. The play itself is amazingly written by Mary Zimmerman\, and features lessons of love\, dreams\, fidelity\, and faith among many things." - Review by N. Amherst
X-ALT-DESC;FMTTYPE=text/html:<strong>SMSU Drama Club Presents Metamorphoses!&nbsp\;</strong><br />\n<span style="color:#050505\;"><span style="font-family:arial\,sans-serif\;"><span style="font-size:10.5pt\;">&quot\;The play is based on Ovid&#39\;s Metamorphoses and features stories from Greek mythology. Some of the stories include King Midas\, Orpheus and Eurydice\, and Eros and Psyche. The play itself is amazingly written by Mary Zimmerman\, and features lessons of love\, dreams\, fidelity\, and faith among many things.&rdquo\; - Review by N. Amherst</span></span></span>
LOCATION:Performed at Southwest Minnesota State University in FA 112 (The Black Box).
UID:e.499.17308
SEQUENCE:3
DTSTAMP:20260426T022747Z
URL:https://business.marshallmn.org/events/details/smsu-drama-club-metamorphoses-02-26-2022-17308
END:VEVENT

END:VCALENDAR
