BEGIN:VCALENDAR
VERSION:2.0
PRODID:-//ChamberMaster//Event Calendar 2.0//EN
METHOD:PUBLISH
X-PUBLISHED-TTL:P3D
REFRESH-INTERVAL:P3D
CALSCALE:GREGORIAN
BEGIN:VEVENT
DTSTART:20260514T233000Z
DTEND:20260515T003000Z
X-MICROSOFT-CDO-ALLDAYEVENT:FALSE
SUMMARY:Small Space Gardening
DESCRIPTION:Small Space Gardening\n\nJoin Lyon County Master Gardener Jennifer Conners to learn how to make the most of a small garden!\n\nThis informational event is free and open to the public.\n\nThis event is presented through the Minnesota Extension Service Master Gardener volunteer program.
X-ALT-DESC;FMTTYPE=text/html:<p>Small Space Gardening</p>\n\n<p>Join Lyon County Master Gardener Jennifer Conners to learn how to make the most of a small garden!</p>\n\n<p>This informational event is free and open to the public.</p>\n\n<p>This event is presented through the Minnesota Extension Service Master Gardener volunteer program.</p>\n
LOCATION:
UID:e.499.23006
SEQUENCE:3
DTSTAMP:20260424T004238Z
URL:https://business.marshallmn.org/events/details/small-space-gardening-23006
END:VEVENT

END:VCALENDAR
