BEGIN:VCALENDAR
VERSION:2.0
PRODID:-//ChamberMaster//Event Calendar 2.0//EN
METHOD:PUBLISH
X-PUBLISHED-TTL:P3D
REFRESH-INTERVAL:P3D
CALSCALE:GREGORIAN
BEGIN:VEVENT
DTSTART:20260314T180000Z
DTEND:20260314T200000Z
X-MICROSOFT-CDO-ALLDAYEVENT:FALSE
SUMMARY:Sip and Paint
DESCRIPTION:Join us for a relaxed afternoon of painting and wine at the Vineyard on March 14th starting at 1 p.m. This guided adult paint party is welcoming to all experience levels. Sammy Jo will lead you step-by-step through the featured design in a fun\, social atmosphere.\n\nCost is $25 per person. All painting materials are included. Wine and beverages will be available for purchase from the vineyard.\n\nSeating is limited to 20 participants. Online registration through SJMiller Arts is required to reserve your spot.\n\nYour confirmation email or receipt serve as your event admission. No physical ticket is required.\n\nRefund Policy: Full refunds are available up to 5 days prior to the event. After that\, registrations are transferable but non-refundable\n\nGrab your ticket at https://www.sjmillerarts.com/.../paint-party-painted..
X-ALT-DESC;FMTTYPE=text/html:<div>Join us for a relaxed afternoon of painting and wine at the Vineyard on March 14th starting at 1 p.m. This guided adult paint party is welcoming to all experience levels. Sammy Jo will lead you step-by-step through the featured design in a fun\, social atmosphere.</div>\n\n<div>Cost is $25 per person. All painting materials are included. Wine and beverages will be available for purchase from the vineyard.</div>\n\n<div>Seating is limited to 20 participants. Online registration through SJMiller Arts is required to reserve your spot.</div>\n\n<div>Your confirmation email or receipt serve as your event admission. No physical ticket is required.</div>\n\n<div>Refund Policy: Full refunds are available up to 5 days prior to the event. After that\, registrations are transferable but non-refundable</div>\n\n<div>Grab your ticket at&nbsp\;<span style="color:rgb(0\, 100\, 209) !important\; font-family:inherit\; font-size:inherit"><a class="x_x1i10hfl x_xjbqb8w x_x1ejq31n x_x18oe1m7 x_x1sy0etr x_xstzfhl x_x972fbf x_x10w94by x_x1qhh985 x_x14e42zd x_x9f619 x_x1ypdohk x_xt0psk2 x_x3ct3a4 x_xdj266r x_x14z9mp x_xat24cr x_x1lziwak x_xexx8yu x_xyri2b x_x18d9i69 x_x1c1uobl x_x16tdsg8 x_x1hl2dhg x_xggy1nq x_x1a2a7pz x_xkrqix3 x_x1sur9pj x_x1fey0fg x_x1s688f x_OWAAutoLink" href="https://www.sjmillerarts.com/shop/p/paint-party-painted-prairie?fbclid=IwZXh0bgNhZW0CMTAAYnJpZBEyVFFNY21GZzljUWFvVDFacXNydGMGYXBwX2lkEDIyMjAzOTE3ODgyMDA4OTIAAR7VsyNvYh6FaNZJR63fVLYbwnq2SB4an05d3p9YutJgf8UHkGfwQJvLDLOPKQ_aem_ZT1Jn-PKb8AFZjcWOeCtzA" id="OWAc21c29a7-e84c-451b-75b3-43966355933a" rel="nofollow noopener noreferrer" style="border: 0px\; font: inherit\; margin: 0px\; padding: 0px\; vertical-align: baseline\; color: rgb(0\, 100\, 209) !important\; display: inline\;" target="_blank" title="https://www.sjmillerarts.com/shop/p/paint-party-painted-prairie?fbclid=IwZXh0bgNhZW0CMTAAYnJpZBEyVFFNY21GZzljUWFvVDFacXNydGMGYXBwX2lkEDIyMjAzOTE3ODgyMDA4OTIAAR7VsyNvYh6FaNZJR63fVLYbwnq2SB4an05d3p9YutJgf8UHkGfwQJvLDLOPKQ_aem_ZT1Jn-PKb8AFZjcWOeCtzA">https://www.sjmillerarts.com/.../paint-party-painted..</a></span></div>\n
LOCATION:Painted Prairie Vineyard 1575 250th Ave. Currie\, MN 56123
UID:e.499.22880
SEQUENCE:3
DTSTAMP:20260424T020334Z
URL:https://business.marshallmn.org/events/details/sip-and-paint-22880
END:VEVENT

END:VCALENDAR
