BEGIN:VCALENDAR
VERSION:2.0
PRODID:-//ChamberMaster//Event Calendar 2.0//EN
METHOD:PUBLISH
X-PUBLISHED-TTL:P3D
REFRESH-INTERVAL:P3D
CALSCALE:GREGORIAN
BEGIN:VEVENT
DTSTART:20220604T160000Z
DTEND:20220604T200000Z
X-MICROSOFT-CDO-ALLDAYEVENT:FALSE
SUMMARY:Shades of the Past
DESCRIPTION:Join Shades of the Past in Marshall\, MN for a Car\, Truck\, Bike\, Tractor & Rat Rod show! Friday Night cruise and Saturday show\, music\, prizes and food all Free to the general public!
X-ALT-DESC;FMTTYPE=text/html:Join Shades of the Past in Marshall\, MN for a Car\, Truck\, Bike\, Tractor &amp\; Rat Rod show! Friday Night cruise and Saturday show\, music\, prizes and food all Free to the general public!
LOCATION:Runnings Parking Lot - Corner of Hwy 59 & 23
UID:e.499.17741
SEQUENCE:3
DTSTAMP:20260425T213421Z
URL:https://business.marshallmn.org/events/details/shades-of-the-past-17741
END:VEVENT

END:VCALENDAR
