BEGIN:VCALENDAR
VERSION:2.0
PRODID:-//ChamberMaster//Event Calendar 2.0//EN
METHOD:PUBLISH
X-PUBLISHED-TTL:P3D
REFRESH-INTERVAL:P3D
CALSCALE:GREGORIAN
BEGIN:VEVENT
DTSTART:20250204T160000Z
DTEND:20250204T190000Z
X-MICROSOFT-CDO-ALLDAYEVENT:FALSE
SUMMARY:Sevita & Career Force Hiring Event!
DESCRIPTION:Discover a promising future! If you enjoy working alongside dedicated teammates and trusting leaders\, you'll find meaningful opportunities to grow your career and use your energy and skills to help people live well! Hiring Caregivers and Program Supervisors!
X-ALT-DESC;FMTTYPE=text/html:Discover a promising future! If you enjoy working alongside dedicated teammates and trusting leaders\, you&#39\;ll find meaningful opportunities to grow your career and use your energy and skills to help people live well! Hiring Caregivers and Program Supervisors!
LOCATION:Marshall Career Force 607 W. Main St. Marshall\, MN 56258
UID:e.499.21938
SEQUENCE:3
DTSTAMP:20260423T134003Z
URL:https://business.marshallmn.org/events/details/sevita-career-force-hiring-event-21938
END:VEVENT

END:VCALENDAR
