BEGIN:VCALENDAR
VERSION:2.0
PRODID:-//ChamberMaster//Event Calendar 2.0//EN
METHOD:PUBLISH
X-PUBLISHED-TTL:P3D
REFRESH-INTERVAL:P3D
CALSCALE:GREGORIAN
BEGIN:VEVENT
DTSTART:20240827T233000Z
DTEND:20240828T003000Z
X-MICROSOFT-CDO-ALLDAYEVENT:FALSE
SUMMARY:Saving Your Stuff: How to Care for Art\, Heirlooms\, and Personal Collections Program
DESCRIPTION:Learn about the "ten agents of deterioration" and how to preserve and protect the things you value. There will be a presentation followed by an open question and answer period. Recommendations for how to find additional resources will be provided at the event. Free event and open to the public. About the presenter: Megan Brakob Narvey is the Outreach Conservator at the Minnesota Historical Society\, where she provides guidance to individuals and local historical organizations on caring for collections big and small across the state of Minnesota. Before coming to MNHS\, Megan worked as an Objects Conservator at the Western Archaeological Conservation Center in Tucson\, Arizona\, and as the Objects Conservation Fellow at the Canadian Conservation Institute in Ottawa Ontario. Megan received a BA in chemistry from Carleton College\, and an MA in Principles of Conservation and MSc in Conservation for Archaeology and Museums from University College London.
X-ALT-DESC;FMTTYPE=text/html:Learn about the &quot\;ten agents of deterioration&quot\; and how to preserve and protect the things you value. There will be a presentation followed by an open question and answer period. Recommendations for how to find additional resources will be provided at the event. Free event and open to the public. About the presenter: Megan Brakob Narvey is the Outreach Conservator at the Minnesota Historical Society\, where she provides guidance to individuals and local historical organizations on caring for collections big and small across the state of Minnesota. Before coming to MNHS\, Megan worked as an Objects Conservator at the Western Archaeological Conservation Center in Tucson\, Arizona\, and as the Objects Conservation Fellow at the Canadian Conservation Institute in Ottawa Ontario. Megan received a BA in chemistry from Carleton College\, and an MA in Principles of Conservation and MSc in Conservation for Archaeology and Museums from University College London.
LOCATION:Lyon County Museum 301 West Lyon Street Marshall
UID:e.499.21453
SEQUENCE:3
DTSTAMP:20260422T020844Z
URL:https://business.marshallmn.org/events/details/saving-your-stuff-how-to-care-for-art-heirlooms-and-personal-collections-program-21453
END:VEVENT

END:VCALENDAR
