BEGIN:VCALENDAR
VERSION:2.0
PRODID:-//ChamberMaster//Event Calendar 2.0//EN
METHOD:PUBLISH
X-PUBLISHED-TTL:P3D
REFRESH-INTERVAL:P3D
CALSCALE:GREGORIAN
BEGIN:VEVENT
DTSTART:20180405T130000Z
DTEND:20180405T143000Z
X-MICROSOFT-CDO-ALLDAYEVENT:FALSE
SUMMARY:Thrivent Sponsored Seminar - Retirement Solutions For Life
DESCRIPTION:Tom Henga's  book Don't Worry\, Retire Happy! is your guide to straightforward retirement planning in uncertain times. Tom Hegna\, CLU \, ChFC \, CASL  has dedicated himself to helping individuals simplify their retirement journey. Learn strategies to help prepare for retirement. Avoid living a just-in-case retirement and enjoy the fruits of your labor!
X-ALT-DESC;FMTTYPE=text/html:Tom Henga&#39\;s&nbsp\; book <em>Don&rsquo\;t Worry\, Retire Happy! </em>is your guide to straightforward retirement planning in uncertain times. Tom Hegna\, CLU&reg\;\, ChFC&reg\;\, CASL&reg\; has dedicated himself to helping individuals simplify their retirement journey. Learn strategies to help prepare for retirement. Avoid living a just-in-case retirement and enjoy the fruits of your labor!
LOCATION:SMSU Conference Center 310 Wefald Drive Marshall\, MN 56258
UID:e.499.5503
SEQUENCE:3
DTSTAMP:20260424T054556Z
URL:https://business.marshallmn.org/events/details/retirement-solutions-for-life-5503
END:VEVENT

END:VCALENDAR
