BEGIN:VCALENDAR
VERSION:2.0
PRODID:-//ChamberMaster//Event Calendar 2.0//EN
METHOD:PUBLISH
X-PUBLISHED-TTL:P3D
REFRESH-INTERVAL:P3D
CALSCALE:GREGORIAN
BEGIN:VEVENT
DTSTART:20220822T220000Z
DTEND:20220823T000000Z
X-MICROSOFT-CDO-ALLDAYEVENT:FALSE
SUMMARY:Republican Headquarters Grand Opening
DESCRIPTION:The Lyon County Republicans will be hosting the grand opening of their 2022 campaign headquarters 5-7 PM on Monday\, August 22.  The headquarters is located at 800 W. College Drive\, just east of the fairgrounds entrance.\n\n\n\nCome meet our candidates\, enjoy refreshments and pick up signs and other campaign materials!  For more information call Trudy Madetzke at 532-9519.
X-ALT-DESC;FMTTYPE=text/html:<span style="font-family:times new roman\,serif"><span style="font-size:12pt">The Lyon County Republicans will be hosting the grand opening of their 2022 campaign headquarters 5-7 PM on Monday\, August 22.&nbsp\;&nbsp\;</span></span><span style="font-size:12pt"><span style="font-family:times new roman\,serif">The headquarters is located at 800 W. College Drive\, just east of the fairgrounds entrance.</span></span><br />\n<br />\n<span style="font-family:times new roman\,serif"><span style="font-size:12pt">Come meet our candidates\, enjoy refreshments and pick up signs and other campaign materials!&nbsp\; For more information call Trudy Madetzke at 532-9519.</span></span>
LOCATION:800 W. College Drive\, Marshall
UID:e.499.18541
SEQUENCE:3
DTSTAMP:20260425T132309Z
URL:https://business.marshallmn.org/events/details/republican-headquarters-grand-opening-18541
END:VEVENT

END:VCALENDAR
