BEGIN:VCALENDAR
VERSION:2.0
PRODID:-//ChamberMaster//Event Calendar 2.0//EN
METHOD:PUBLISH
X-PUBLISHED-TTL:P3D
REFRESH-INTERVAL:P3D
CALSCALE:GREGORIAN
BEGIN:VEVENT
DTSTART:20260519T233000Z
DTEND:20260520T003000Z
X-MICROSOFT-CDO-ALLDAYEVENT:FALSE
SUMMARY:Reflections Series: "Hidden Histories of the American Revolution" Program
DESCRIPTION:Erin Makela will present\, "Hidden Histories of the American Revolution" at the Lyon County Museum\, 301 West Lyon Street\, Marshall on Tuesday\, May 19 at 6:30 PM. About the Program: Ever wonder what gets left out of the history books? Want to know more about the American Revolution as America celebrates her 250th? Come and learn about some of the Hidden Histories of the American Revolution with local author\, Erin Makela\, as she explores some of the events and people- like Benedict Arnold and the Christmas Riot at Fort Ticonderoga-that she used for her novels. Erin Makela is an author and educator based in Worthington\, MN. Erin published her first novel\, Worthy of Trust\, last year\, and its sequel\, Enterprising and Dangerous will be published this spring\, and both follow the journey of Whitley Endicott through the American Revolution. Whether she is plotting her next novel or her next travel adventure\, Erin is sure to have a good book and mug of tea close by. The program is free and open to the public. Light refreshments will be served. Programs at the Lyon County Museum are sponsored by members. For more information\, contact the Lyon County Museum at 507-537-6580 or director@lyoncomuseum.org
X-ALT-DESC;FMTTYPE=text/html:Erin Makela will present\, &ldquo\;Hidden Histories of the American Revolution&rdquo\; at the Lyon County Museum\, 301 West Lyon Street\, Marshall on Tuesday\, May 19 at 6:30 PM. About the Program: Ever wonder what gets left out of the history books? Want to know more about the American Revolution as America celebrates her 250th? Come and learn about some of the Hidden Histories of the American Revolution with local author\, Erin Makela\, as she explores some of the events and people- like Benedict Arnold and the Christmas Riot at Fort Ticonderoga-that she used for her novels. Erin Makela is an author and educator based in Worthington\, MN. Erin published her first novel\, Worthy of Trust\, last year\, and its sequel\, Enterprising and Dangerous will be published this spring\, and both follow the journey of Whitley Endicott through the American Revolution. Whether she is plotting her next novel or her next travel adventure\, Erin is sure to have a good book and mug of tea close by. The program is free and open to the public. Light refreshments will be served. Programs at the Lyon County Museum are sponsored by members. For more information\, contact the Lyon County Museum at 507-537-6580 or director@lyoncomuseum.org
LOCATION:Lyon County Museum 301 West Lyon Street Marshall
UID:e.499.23001
SEQUENCE:3
DTSTAMP:20260424T004508Z
URL:https://business.marshallmn.org/events/details/reflections-series-hidden-histories-of-the-american-revolution-program-23001
END:VEVENT

END:VCALENDAR
