BEGIN:VCALENDAR
VERSION:2.0
PRODID:-//ChamberMaster//Event Calendar 2.0//EN
METHOD:PUBLISH
X-PUBLISHED-TTL:P3D
REFRESH-INTERVAL:P3D
CALSCALE:GREGORIAN
BEGIN:VEVENT
DTSTART:20220611T180000Z
DTEND:20220611T200000Z
X-MICROSOFT-CDO-ALLDAYEVENT:FALSE
SUMMARY:Redwood Lodge Open House
DESCRIPTION:Stop by and view the historic Redwood Lodge. Originally the park custodian cabin\, the lodge was constructed during the New Deal era by the Veteran's Conservation Corps (VCC). It is now a reservable guesthouse for park visitors.
X-ALT-DESC;FMTTYPE=text/html:Stop by and view the historic Redwood Lodge. Originally the park custodian cabin\, the lodge was constructed during the New Deal era by the Veteran&#39\;s Conservation Corps (VCC). It is now a reservable guesthouse for park visitors.
LOCATION:North End of Camden State Park
UID:e.499.17945
SEQUENCE:3
DTSTAMP:20260425T213325Z
URL:https://business.marshallmn.org/events/details/redwood-lodge-open-house-17945
END:VEVENT

END:VCALENDAR
