BEGIN:VCALENDAR
VERSION:2.0
PRODID:-//ChamberMaster//Event Calendar 2.0//EN
METHOD:PUBLISH
X-PUBLISHED-TTL:P3D
REFRESH-INTERVAL:P3D
CALSCALE:GREGORIAN
BEGIN:VEVENT
DTSTART:20260508T170000Z
DTEND:20260508T180000Z
X-MICROSOFT-CDO-ALLDAYEVENT:FALSE
SUMMARY:Reduce\, Reuse and Recycling Waste
DESCRIPTION:Join the Lyon County Environmental Department for a free class about recycling\, reuse\, and reduction. Don't just throw everything in the recycling bin and hope for the best. 10%   20% of what we are putting in the recycling bins is not recyclable. Come learn more about the basics of recycling and how to reduce and reuse things you no longer want or need.
X-ALT-DESC;FMTTYPE=text/html:<span style="background-color:rgb(255\, 255\, 255)\; color:rgb(20\, 24\, 39)\; font-family:helvetica neue\,helvetica\,-apple-system\,blinkmacsystemfont\,roboto\,arial\,sans-serif\; font-size:18px">Join the&nbsp\;</span><a href="https://www.lyonco.org/departments/environmental" style="box-sizing: border-box\; background-color: rgb(255\, 255\, 255)\; color: rgb(110\, 121\, 64)\; text-decoration: none\; border-bottom: 1px solid rgb(110\, 121\, 64)\; transition: color 0.2s\; font-family: &quot\;Helvetica Neue&quot\;\, Helvetica\, -apple-system\, BlinkMacSystemFont\, Roboto\, Arial\, sans-serif\; font-size: 18px\;">Lyon County Environmental Department</a><span style="background-color:rgb(255\, 255\, 255)\; color:rgb(20\, 24\, 39)\; font-family:helvetica neue\,helvetica\,-apple-system\,blinkmacsystemfont\,roboto\,arial\,sans-serif\; font-size:18px">&nbsp\;for a free class about recycling\, reuse\, and reduction. Don&rsquo\;t just throw everything in the recycling bin and hope for the best. 10% &ndash\; 20% of what we are putting in the recycling bins is not recyclable. Come learn more about the basics of recycling and how to reduce and reuse things you no longer want or need.</span>
LOCATION:
UID:e.499.23005
SEQUENCE:3
DTSTAMP:20260424T004304Z
URL:https://business.marshallmn.org/events/details/reduce-reuse-and-recycling-waste-23005
END:VEVENT

END:VCALENDAR
