BEGIN:VCALENDAR
VERSION:2.0
PRODID:-//ChamberMaster//Event Calendar 2.0//EN
METHOD:PUBLISH
X-PUBLISHED-TTL:P3D
REFRESH-INTERVAL:P3D
CALSCALE:GREGORIAN
BEGIN:VEVENT
DTSTART;VALUE=DATE:20220611
DTEND;VALUE=DATE:20220612
TRANSP:TRANSPARENT
X-MICROSOFT-CDO-ALLDAYEVENT:TRUE
SUMMARY:Read in the Park Day
DESCRIPTION:Two MN state park permits are also newly available for check-out at the Marshall Lyon County library. We're going to celebrate that with a Read in the Park Day. Visitors are encouraged to find a good book and beautiful place to read. Participants will be eligible to enter a drawing for a $25 MN state park gift card. Free books will also be available at the ranger station.
X-ALT-DESC;FMTTYPE=text/html:Two MN state park permits are also newly available for check-out at the Marshall Lyon County library. We&rsquo\;re going to celebrate that with a Read in the Park Day. Visitors are encouraged to find a good book and beautiful place to read. Participants will be eligible to enter a drawing for a $25 MN state park gift card. Free books will also be available at the ranger station.
LOCATION:Camden State Park
UID:e.499.17943
SEQUENCE:3
DTSTAMP:20260425T213141Z
URL:https://business.marshallmn.org/events/details/read-in-the-park-day-17943
END:VEVENT

END:VCALENDAR
