BEGIN:VCALENDAR
VERSION:2.0
PRODID:-//ChamberMaster//Event Calendar 2.0//EN
METHOD:PUBLISH
X-PUBLISHED-TTL:P3D
REFRESH-INTERVAL:P3D
CALSCALE:GREGORIAN
BEGIN:VEVENT
DTSTART:20250920T223000Z
DTEND:20250921T030000Z
X-MICROSOFT-CDO-ALLDAYEVENT:FALSE
SUMMARY:Pursuit of Excellence
DESCRIPTION:High School Marching Band field competition and exhibition. See up to 20 Marching Bands perform their inspirational field shows and hear amazing music from schools representing MN\, SD and Iowa.
X-ALT-DESC;FMTTYPE=text/html:High School Marching Band field competition and exhibition. See up to 20 Marching Bands perform their inspirational field shows and hear amazing music from schools representing MN\, SD and Iowa.
LOCATION:SMSU Mattke Field
UID:e.499.22151
SEQUENCE:3
DTSTAMP:20260423T231522Z
URL:https://business.marshallmn.org/events/details/pursuit-of-excellence-22151
END:VEVENT

END:VCALENDAR
