BEGIN:VCALENDAR
VERSION:2.0
PRODID:-//ChamberMaster//Event Calendar 2.0//EN
METHOD:PUBLISH
X-PUBLISHED-TTL:P3D
REFRESH-INTERVAL:P3D
CALSCALE:GREGORIAN
BEGIN:VEVENT
DTSTART;VALUE=DATE:20260314
DTEND;VALUE=DATE:20260315
TRANSP:TRANSPARENT
X-MICROSOFT-CDO-ALLDAYEVENT:TRUE
SUMMARY:Prime Rib Night
DESCRIPTION:Painted Prairie is having a prime rib night on Saturday\, March 14th from 5 to close.\n\nPrime Rib meal is $35.95 and comes with loaded baked potato\, side salad\, prime rib and seasonal vegetable.\n\nTo join us for Prime Rib\, we ask you to call to make reservations. Call 507-626-5203.\n\nA limited menu will be available during the evening as well.
X-ALT-DESC;FMTTYPE=text/html:<div>Painted Prairie is having a prime rib night on Saturday\, March 14th from 5 to close.</div>\n\n<div>Prime Rib meal is $35.95 and comes with loaded baked potato\, side salad\, prime rib and seasonal vegetable.</div>\n\n<div>To join us for Prime Rib\, we ask you to call to make reservations. Call 507-626-5203.</div>\n\n<div>A limited menu will be available during the evening as well.</div>\n
LOCATION:Painted Prairie Vineyard 1575 250th Ave. Currie\, MN 56123
UID:e.499.22881
SEQUENCE:3
DTSTAMP:20260424T010532Z
URL:https://business.marshallmn.org/events/details/prime-rib-night-03-14-2026-22881
END:VEVENT

END:VCALENDAR
