BEGIN:VCALENDAR
VERSION:2.0
PRODID:-//ChamberMaster//Event Calendar 2.0//EN
METHOD:PUBLISH
X-PUBLISHED-TTL:P3D
REFRESH-INTERVAL:P3D
CALSCALE:GREGORIAN
BEGIN:VEVENT
DTSTART:20260507T230000Z
DTEND:20260508T030000Z
X-MICROSOFT-CDO-ALLDAYEVENT:FALSE
SUMMARY:Power of the Purse 2026
DESCRIPTION:Power of the Purse 2026\n\nRun for the Roses\n\nExperience a glamorous evening of food\, fun\, and games.\n\nThere will be Deluxe Packages\, the Prize Vault\, and so much more!
X-ALT-DESC;FMTTYPE=text/html:<h2 style="text-align:center">Power of the Purse 2026</h2>\n\n<h2 style="text-align:center"><span style="color:rgb(255\, 68\, 59)"><u>Run for the Roses</u></span></h2>\n\n<h1 style="text-align:center">Experience a glamorous evening of food\, fun\, and games.</h1>\n\n<h1 style="text-align:center">There will be Deluxe Packages\, the Prize Vault\, and so much more!</h1>\n
LOCATION:5 Family Ranch
UID:e.499.22465
SEQUENCE:3
DTSTAMP:20260424T010554Z
URL:https://business.marshallmn.org/events/details/power-of-the-purse-22465
END:VEVENT

END:VCALENDAR
