BEGIN:VCALENDAR
VERSION:2.0
PRODID:-//ChamberMaster//Event Calendar 2.0//EN
METHOD:PUBLISH
X-PUBLISHED-TTL:P3D
REFRESH-INTERVAL:P3D
CALSCALE:GREGORIAN
BEGIN:VEVENT
DTSTART:20260329T143000Z
DTEND:20260329T153000Z
X-MICROSOFT-CDO-ALLDAYEVENT:FALSE
SUMMARY:Palm Sunday Worship and Brunch at First Lutheran
DESCRIPTION:Join us for a meaningful Palm Sunday worship service at First Lutheran Church at 9:30am! Celebrate the triumphant entry of Jesus into Jerusalem with inspiring music\, uplifting prayer\, and a sense of community.\n\nOur senior high youth will also be sponsoring a delicious brunch following the service\, offering a great opportunity to gather\, connect\, and enjoy some tasty treats together. We look forward to seeing you there as we begin Holy Week with joy and fellowship!\n\nThis service will also be livestreamed.   All are welcome!
X-ALT-DESC;FMTTYPE=text/html:<span style="background-color:rgb(255\, 255\, 255)\; color:rgb(8\, 8\, 9)\; font-family:segoe ui historic\,segoe ui\,helvetica\,arial\,sans-serif\; font-size:15px">Join us for a meaningful Palm Sunday worship service at First Lutheran Church at 9:30am! Celebrate the triumphant entry of Jesus into Jerusalem with inspiring music\, uplifting prayer\, and a sense of community.</span><br />\n<span style="background-color:rgb(255\, 255\, 255)\; color:rgb(8\, 8\, 9)\; font-family:segoe ui historic\,segoe ui\,helvetica\,arial\,sans-serif\; font-size:15px">Our senior high youth will also be sponsoring a delicious brunch following the service\, offering a great opportunity to gather\, connect\, and enjoy some tasty treats together. We look forward to seeing you there as we begin Holy Week with joy and fellowship!</span><br />\n<span style="background-color:rgb(255\, 255\, 255)\; color:rgb(8\, 8\, 9)\; font-family:segoe ui historic\,segoe ui\,helvetica\,arial\,sans-serif\; font-size:15px">This service will also be livestreamed.</span><span style="background-color:rgb(255\, 255\, 255)\; color:rgb(8\, 8\, 9)\; font-family:segoe ui historic\,segoe ui\,helvetica\,arial\,sans-serif\; font-size:15px">&nbsp\; &nbsp\;All are welcome!</span>
LOCATION:First Lutheran Church 100 Church Street Marshall MN
UID:e.499.22102
SEQUENCE:3
DTSTAMP:20260424T010707Z
URL:https://business.marshallmn.org/events/details/palm-sunday-worship-and-brunch-at-first-lutheran-22102
END:VEVENT

END:VCALENDAR
