BEGIN:VCALENDAR
VERSION:2.0
PRODID:-//ChamberMaster//Event Calendar 2.0//EN
METHOD:PUBLISH
X-PUBLISHED-TTL:P3D
REFRESH-INTERVAL:P3D
CALSCALE:GREGORIAN
BEGIN:VEVENT
DTSTART:20240922T180000Z
DTEND:20240922T210000Z
X-MICROSOFT-CDO-ALLDAYEVENT:FALSE
SUMMARY:Paint your Pet
DESCRIPTION:Join us for a paint your pet class! This class is designed as a paint by number workshop.\n\nWe will be painting our pets off of an image of your choice. Gray Duck Art will take your image and turn it into a paint by number\, making this class a fun and successful experience for all.\n\nRight after purchasing your ticket\, please email us photos of your pet. Please use directions at grayduckart.com/class . Registration and photo submission will close 3 WEEKS prior to class so we have time to draw your custom artwork.\n\nClasses include a hand drawn paint by number on your canvas and a full set of custom mixed paints. Canvases are drawn by local artists in the Twin Cities (more info about our team at grayduckart.com/about ).\n\n____\n\nNo painting experience necessary. This is for ALL! 1 drink is included with your ticket
X-ALT-DESC;FMTTYPE=text/html:<div>Join us for a paint your pet class! This class is designed as a paint by number workshop.</div>\n\n<div>We will be painting our pets off of an image of your choice. Gray Duck Art will take your image and turn it into a paint by number\, making this class a fun and successful experience for all.<br />\nRight after purchasing your ticket\, please email us photos of your pet. Please use directions at&nbsp\;<a class="x1i10hfl xjbqb8w x1ejq31n xd10rxx x1sy0etr x17r0tee x972fbf xcfux6l x1qhh985 xm0m39n x9f619 x1ypdohk xt0psk2 xe8uvvx xdj266r x11i5rnm xat24cr x1mh8g0r xexx8yu x4uap5 x18d9i69 xkhd6sd x16tdsg8 x1hl2dhg xggy1nq x1a2a7pz x1sur9pj xkrqix3 x1fey0fg" href="http://grayduckart.com/class?fbclid=IwZXh0bgNhZW0CMTAAAR2KWjPACxZWJZjj01xH4H-9Gn9oGydKpchruwjDEugsxyAO4o6PH5fmgek_aem_IBmPinjVDTIxicEbmg2S5w" rel="nofollow" style="cursor: pointer\; text-decoration-line: none\; list-style: none\; margin: 0px\; text-align: inherit\; border-style: none\; padding: 0px\; box-sizing: border-box\; border-width: 0px\; outline: none\; -webkit-tap-highlight-color: transparent\; touch-action: manipulation\; background-color: transparent\; display: inline\; font-family: inherit\;" tabindex="0" target="_blank">grayduckart.com/class</a>&nbsp\;. Registration and photo submission will close 3 WEEKS prior to class so we have time to draw your custom artwork.<br />\nClasses include a hand drawn paint by number on your canvas and a full set of custom mixed paints. Canvases are drawn by local artists in the Twin Cities (more info about our team at&nbsp\;<a class="x1i10hfl xjbqb8w x1ejq31n xd10rxx x1sy0etr x17r0tee x972fbf xcfux6l x1qhh985 xm0m39n x9f619 x1ypdohk xt0psk2 xe8uvvx xdj266r x11i5rnm xat24cr x1mh8g0r xexx8yu x4uap5 x18d9i69 xkhd6sd x16tdsg8 x1hl2dhg xggy1nq x1a2a7pz x1sur9pj xkrqix3 x1fey0fg" href="https://l.facebook.com/l.php?u=http%3A%2F%2Fgrayduckart.com%2Fabout%3Ffbclid%3DIwZXh0bgNhZW0CMTAAAR05aNv4PvUFvFIvG-P4rMxiRw1RT_R6iVmRUUtiISyIoo1YP8v7QJ0V5X0_aem_2Yy6gwj88BtLqUKfs3hE-A&amp\;h=AT1rlndeLMWZxjfNVwcbpFIYqkgCLjXTYVrn-3wLgA44ZvACZ09VRhHxX9AtvTbz9rM-XuV250PSPbmvvwZjF0PbDHAUc8mcAyddRid0hj7SSlCj9N24ATQOgxQr3ZgOhw&amp\;__tn__=q&amp\;c[0]=AT3DoOsaU50LuAWJcc8HLW8s6uC95wpDRqJqclhKIjoFL_5OprCfCG_sT3c_IJOK9S10UpYvplnKP7zvBLg36FJnQtW6Un0Jc1XDdCNkwrXHTZL2gR65d6KbjplBLysOaJQ" rel="nofollow" style="cursor: pointer\; text-decoration-line: none\; list-style: none\; margin: 0px\; text-align: inherit\; border-style: none\; padding: 0px\; box-sizing: border-box\; border-width: 0px\; outline: none\; -webkit-tap-highlight-color: transparent\; touch-action: manipulation\; background-color: transparent\; display: inline\; font-family: inherit\;" tabindex="0" target="_blank">grayduckart.com/about</a>&nbsp\;).<br />\n____<br />\nNo painting experience necessary. This is for ALL! 1 drink is included with your ticket</div>\n
LOCATION:Painted Prairie Vineyard 1575 250th Ave\, Currie\, MN 56123-1128\, United States
UID:e.499.21659
SEQUENCE:3
DTSTAMP:20260423T064957Z
URL:https://business.marshallmn.org/events/details/paint-your-pet-09-22-2024-21659
END:VEVENT

END:VCALENDAR
