BEGIN:VCALENDAR
VERSION:2.0
PRODID:-//ChamberMaster//Event Calendar 2.0//EN
METHOD:PUBLISH
X-PUBLISHED-TTL:P3D
REFRESH-INTERVAL:P3D
CALSCALE:GREGORIAN
BEGIN:VEVENT
DTSTART:20240916T190000Z
DTEND:20240916T203000Z
X-MICROSOFT-CDO-ALLDAYEVENT:FALSE
SUMMARY:Paid Family Medical Leave: What you need to know
DESCRIPTION:Paid Leave is coming to Minnesota.\n\nIs your business ready?\n \n\nStarting Jan. 1\, 2026\, Minnesota's Paid Leave program will provide job protections and partial wage replacement to workers who need time off to care for themselves or a family member. Paid Leave will support your employees when they need it most and strengthen connections in our families\, communities and workplaces to improve employee retention\, performance and morale.\n\n \n\nAs an employer\, you play an important role in Paid Leave. To help employers prepare and to answer questions about the new state program\, Minnesota Paid Leave Director Greg Norfleet and division staff are partnering with local chambers of commerce across Minnesota for a series of regional\, in-person engagement sessions to:\n\n \n\n- Provide employers with program updates\, respond to questions\, and gather feedback. \n\n- Share information employers need to make sure they are ready when wage detail reporting begins this October.\n\n- Connect and establish open lines of communication with employers around the state.\n\n\n\n\n\nThe Marshall Area Chamber of Commerce will be hosting DEED to discuss Minnesota Paid Leave for an information and engagement session.
X-ALT-DESC;FMTTYPE=text/html:<h1 style="text-align: center\;"><strong><span style="font-family:calibri\,sans-serif\;">Paid Leave is coming to Minnesota.<br />\nIs your business ready?</span></strong></h1>\n&nbsp\;\n\n<div style="text-align: center\;"><span style="color:#212121\;">Starting Jan. 1\, 2026\, Minnesota&rsquo\;s Paid Leave program will provide job protections and partial wage replacement to workers who need time off to care for themselves or a family member. </span>Paid Leave will support your employees when they need it most and strengthen connections in our families\, communities and workplaces to improve employee retention\, performance and morale.<br />\n&nbsp\;<br />\nAs an employer\, you play an important role in Paid Leave. To help employers prepare and to answer questions about the new state program\, Minnesota <span style="color:#212121\;">Paid Leave Director Greg Norfleet and </span>division<span style="color:#212121\;"> staff are partnering with local chambers of commerce </span>across Minnesota for a series of regional\, in-person engagement sessions<span style="color:#212121\;"> to:</span></div>\n\n<div style="text-align: center\;">&nbsp\;</div>\n\n<div style="text-align: center\;"><span style="font-family:arial\;"><span style="color:#212121\;">- Provide employers with program updates</span>\, <span style="color:#212121\;">respond to questions\, </span>and <span style="color:#212121\;">gather feedback. </span></span></div>\n\n<div style="text-align: center\;"><span style="font-family:arial\;">- Share information employers need to <span style="color:#212121\;">make sure they are ready </span>when <span style="color:#212121\;">wage detail reporting </span>begins this<span style="color:#212121\;"> October.</span></span></div>\n\n<div style="text-align: center\;"><span style="font-family:arial\;"><span style="background:white\;"><span style="color:black\;">- Connect and establish open lines of communication with employers around the state.</span></span></span></div>\n\n<div style="text-align: center\;"><br />\n<br />\n<span style="font-size:16px\;"><strong><span style="font-family:calibri\,sans-serif\;">The Marshall Area Chamber of Commerce will be hosting DEED to discuss Minnesota Paid Leave for an information and engagement session.</span></strong></span></div>\n
LOCATION:SMSU Upper Conference Center -Building #13\, parking lot #37 1501 State Street\, Marshall\, MN 56258
UID:e.499.21665
SEQUENCE:3
DTSTAMP:20260423T070542Z
URL:https://business.marshallmn.org/events/details/paid-family-medical-leave-what-you-need-to-know-21665
END:VEVENT

END:VCALENDAR
