BEGIN:VCALENDAR
VERSION:2.0
PRODID:-//ChamberMaster//Event Calendar 2.0//EN
METHOD:PUBLISH
X-PUBLISHED-TTL:P3D
REFRESH-INTERVAL:P3D
CALSCALE:GREGORIAN
BEGIN:VEVENT
DTSTART:20240921T170000Z
DTEND:20240922T040000Z
X-MICROSOFT-CDO-ALLDAYEVENT:FALSE
SUMMARY:Oktoberfest '24 of Marshall\, MN
DESCRIPTION:Join us this year for a full day of fun and activities!\n\n \n\nThis year\, we have three bands playing throughout the day. Here is the lineup:\n\n12:00-3:00: Larry Olsen Band\n\n3:30-6:30: Kayla Daniels\n\n7:00-10:00: Singing Q's\n\n \n\nNew this year\, there will be Oktoberfest of Marshall\, MN 19 oz steins to purchase to enjoy your beer out of.\n\nOf course\, you can count on a great brat meals that consists of a brat\, bean\, potato salad\, chips\, pop\, water or beer.\n\nWe will also have yard games for the whole family to enjoy!\n\n \n\n$10 admission\n\n \n\nWe look forward to seeing you on September 21st!
X-ALT-DESC;FMTTYPE=text/html:<div>Join us this year for a full day of fun and activities!<br />\n&nbsp\;</div>\n\n<div>This year\, we have three bands playing throughout the day. Here is the lineup:</div>\n\n<div>12:00-3:00: Larry Olsen Band<br />\n3:30-6:30: Kayla Daniels<br />\n7:00-10:00: Singing Q&#39\;s<br />\n&nbsp\;</div>\n\n<div>New this year\, there will be Oktoberfest of Marshall\, MN 19 oz steins to purchase to enjoy your beer out of.</div>\n\n<div>Of course\, you can count on a great brat meals that consists of a brat\, bean\, potato salad\, chips\, pop\, water or beer.</div>\n\n<div>We will also have yard games for the whole family to enjoy!<br />\n&nbsp\;</div>\n\n<div>$10 admission<br />\n&nbsp\;</div>\n\n<div>We look forward to seeing you on September 21st!</div>\n
LOCATION:4-H Building at the Lyon County Fairgrounds 504 Fairgrounds Road Marshall\, MN 56258
UID:e.499.21671
SEQUENCE:3
DTSTAMP:20260423T073422Z
URL:https://business.marshallmn.org/events/details/oktoberfest-24-of-marshall-mn-21671
END:VEVENT

END:VCALENDAR
