BEGIN:VCALENDAR
VERSION:2.0
PRODID:-//ChamberMaster//Event Calendar 2.0//EN
METHOD:PUBLISH
X-PUBLISHED-TTL:P3D
REFRESH-INTERVAL:P3D
CALSCALE:GREGORIAN
BEGIN:VEVENT
DTSTART:20250510T170000Z
DTEND:20250510T230000Z
X-MICROSOFT-CDO-ALLDAYEVENT:FALSE
SUMMARY:Mothers Day Celebration
DESCRIPTION:Come join us at Legion Field Park for a special Mother's Day Celebration! Let's show our moms how much we appreciate them with a fun-filled day of activities. From live music to delicious food\, there's something for everyone to enjoy. Don't miss out on this opportunity to make lasting memories with your mom. See you there!
X-ALT-DESC;FMTTYPE=text/html:<span style="background-color:rgb(255\, 255\, 255)\; color:rgb(111\, 114\, 135)\; font-family:neue plak\,-apple-system\,blinkmacsystemfont\,roboto\,helvetica neue\,helvetica\,tahoma\,arial\,sans-serif\; font-size:16px">Come join us at Legion Field Park for a special&nbsp\;</span><strong>Mother&#39\;s Day Celebration</strong><span style="background-color:rgb(255\, 255\, 255)\; color:rgb(111\, 114\, 135)\; font-family:neue plak\,-apple-system\,blinkmacsystemfont\,roboto\,helvetica neue\,helvetica\,tahoma\,arial\,sans-serif\; font-size:16px">! Let&#39\;s show our moms how much we appreciate them with a fun-filled day of activities. From live music to delicious food\, there&#39\;s something for everyone to enjoy. Don&#39\;t miss out on this opportunity to make lasting memories with your mom. See you there!</span>
LOCATION:Legion Field Park Marshall MN
UID:e.499.22131
SEQUENCE:3
DTSTAMP:20260423T184758Z
URL:https://business.marshallmn.org/events/details/mothers-day-celebration-22131
END:VEVENT

END:VCALENDAR
