BEGIN:VCALENDAR
VERSION:2.0
PRODID:-//ChamberMaster//Event Calendar 2.0//EN
METHOD:PUBLISH
X-PUBLISHED-TTL:P3D
REFRESH-INTERVAL:P3D
CALSCALE:GREGORIAN
BEGIN:VEVENT
DTSTART:20260313T220000Z
DTEND:20260314T030000Z
X-MICROSOFT-CDO-ALLDAYEVENT:FALSE
SUMMARY:Mob Matrimony\; A Murder Mystery Dinner
DESCRIPTION:Join Visit Marshall on Friday March 13th for Mob Matrimony\, an unforgettable 1920s-themed Murder Mystery Dinner where love\, betrayal\, and secrets collide! Set at a lavish mob wedding\, this interactive evening promises fine dining\, suspenseful storytelling\, and plenty of surprises.\n\nAs alliances form and suspicions rise\, it becomes clear that not everyone will make it to the honeymoon. Will it be a jilted lover\, a rival mobster\, or someone hiding a deadly secret? Only you can help solve the mystery!\n\n \n\nTickets are available online\, or in person at Hy-Vee customer Service desk.\n\n \n\n$50 - Individual Ticket\; GA Seating\n\n$750 - Reserved Table (10 Tickets): Reserved table for a group of 10.\n\n$1000- VIP Reserved Table Sponsor: 10 tickets\, Business Logo on Promo & Table\, Bottle of Champagne.
X-ALT-DESC;FMTTYPE=text/html:<div>Join Visit Marshall on Friday March 13th for Mob Matrimony\, an unforgettable 1920s-themed Murder Mystery Dinner where love\, betrayal\, and secrets collide! Set at a lavish mob wedding\, this interactive evening promises fine dining\, suspenseful storytelling\, and plenty of surprises.</div>\n\n<div>As alliances form and suspicions rise\, it becomes clear that not everyone will make it to the honeymoon. Will it be a jilted lover\, a rival mobster\, or someone hiding a deadly secret? Only you can help solve the mystery!</div>\n\n<div>&nbsp\;</div>\n\n<div>Tickets are available online\, or in person at Hy-Vee customer Service desk.</div>\n\n<div>&nbsp\;</div>\n\n<div>$50 - Individual Ticket\; GA Seating</div>\n\n<div>$750 - Reserved Table (10 Tickets): Reserved table for a group of 10.</div>\n\n<div>$1000- VIP Reserved Table Sponsor: 10 tickets\, Business Logo on Promo &amp\; Table\, Bottle of Champagne.</div>\n
LOCATION:Marshall Golf Club
UID:e.499.22815
SEQUENCE:3
DTSTAMP:20260424T010420Z
URL:https://business.marshallmn.org/events/details/mob-matrimony-a-murder-mystery-dinner-22815
END:VEVENT

END:VCALENDAR
