BEGIN:VCALENDAR
VERSION:2.0
PRODID:-//ChamberMaster//Event Calendar 2.0//EN
METHOD:PUBLISH
X-PUBLISHED-TTL:P3D
REFRESH-INTERVAL:P3D
CALSCALE:GREGORIAN
BEGIN:VEVENT
DTSTART:20160206T150000Z
DTEND:20160206T170000Z
X-MICROSOFT-CDO-ALLDAYEVENT:FALSE
SUMMARY:Minute to Win It Challenge
DESCRIPTION:Join the Kiwanis Club for some fun at the 5th Annual Minute to Win It Challenge and fundraiser on Saturday February 6 from 9am-11am.\n\nVisit us on Facebook for further event details. https://www.facebook.com/MarshallAreaKiwanis\n\nIf you have a team to sign up/sponsor\, or would like to volunteer at the event\, please sign up at: http://marshallkiwanis.org/Page/10855
X-ALT-DESC;FMTTYPE=text/html:Join&nbsp\;the Kiwanis&nbsp\;Club&nbsp\;for some&nbsp\;fun at the 5th Annual Minute to Win It Challenge and fundraiser&nbsp\;on Saturday February 6 from 9am-11am.<br />\nVisit us on Facebook for further event details. <a href="https://www.facebook.com/MarshallAreaKiwanis">https://www.facebook.com/MarshallAreaKiwanis</a><br />\nIf you have a team to sign up/sponsor\, or would like to volunteer at the event\, please sign up at: <a href="http://marshallkiwanis.org/Page/10855">http://marshallkiwanis.org/Page/10855</a>
LOCATION:Westside Elementary Gym
UID:e.499.2651
SEQUENCE:3
DTSTAMP:20260425T021131Z
URL:https://business.marshallmn.org/events/details/minute-to-win-it-challenge-02-06-2016-2651
END:VEVENT

END:VCALENDAR
