BEGIN:VCALENDAR
VERSION:2.0
PRODID:-//ChamberMaster//Event Calendar 2.0//EN
METHOD:PUBLISH
X-PUBLISHED-TTL:P3D
REFRESH-INTERVAL:P3D
CALSCALE:GREGORIAN
BEGIN:VEVENT
DTSTART:20220819T150000Z
DTEND:20220820T000000Z
X-MICROSOFT-CDO-ALLDAYEVENT:FALSE
SUMMARY:Marshall Hockey 10th Annual Golf Scramble
DESCRIPTION:The 10th annual Marshall Hockey Golf Scramble is a great way to kick off the Sounds of Summer weekend events. Get together with a group of people who know how to have a great time. \n\n\n\nLocation: Marshall Golf Club\n\n\n\nTee times available between 10:00 AM - 2:00 PM\n\nPizza\, appetizer basket\, and door prizes will be included for all participants with a variety of pin prizes and team prizes to be given away.\n\n\n\n$100.00: Individual Golfer (Will be placed on a team)\n\n$500.00: Group of 4\, 8 drink tickets\, and hole sponsor.\n\nDonate any amount if you can not join us for golf!\n\n\n\nContact:\n\nJason Peterson: 507-829-4510\n\nChris Versaevel 507-829-8470\n\nJustin Jiskoot 507-829-4510\n\n\n\nReturn Registration Form by August 13\, 2022.\n\n\n\nClick Here
X-ALT-DESC;FMTTYPE=text/html:<p>The 10th annual Marshall Hockey Golf Scramble is a great way to kick off the Sounds of Summer weekend events. Get together with a group of people who know how to have a great time.&nbsp\;<br />\n<br />\nLocation: Marshall Golf Club<br />\n<br />\nTee times available between 10:00 AM - 2:00 PM<br />\nPizza\,&nbsp\;appetizer basket\, and door prizes will be included for all participants with a variety of pin prizes and team prizes to be given away.<br />\n<br />\n$100.00: Individual Golfer (Will be placed on a team)<br />\n$500.00: Group of 4\, 8 drink tickets\, and hole sponsor.<br />\nDonate any amount if you can not join us for golf!<br />\n<br />\nContact:<br />\nJason Peterson: 507-829-4510<br />\nChris Versaevel 507-829-8470<br />\nJustin Jiskoot 507-829-4510<br />\n<br />\nReturn Registration Form by August 13\, 2022.<br />\n<br />\n<a href="https://chambermaster.blob.core.windows.net/userfiles/UserFiles/chambers/499/File/MAHA2022GolfScrambleFlyer.pdf">Click Here</a><br />\n&nbsp\;</p>\n
LOCATION:Marshall Golf Club
UID:e.499.9278
SEQUENCE:3
DTSTAMP:20260425T132357Z
URL:https://business.marshallmn.org/events/details/marshall-hockey-10th-annual-golf-scramble-9278
END:VEVENT

END:VCALENDAR
