BEGIN:VCALENDAR
VERSION:2.0
PRODID:-//ChamberMaster//Event Calendar 2.0//EN
METHOD:PUBLISH
X-PUBLISHED-TTL:P3D
REFRESH-INTERVAL:P3D
CALSCALE:GREGORIAN
BEGIN:VEVENT
DTSTART:20220519T220000Z
DTEND:20220520T030000Z
X-MICROSOFT-CDO-ALLDAYEVENT:FALSE
SUMMARY:Marshall 150th Bingo
DESCRIPTION:The City Of Marshall 150th Committee & Visit Marshall is proud to KICK OFF Celebration Season of the Sesquicentennial by a City Wide BINGO at the Red Baron Arena & Expo!\n\n18+Event\n\nBingo Packet is $20\, Bingo Starts promptly at 6:00PM. Doors open at 5:00PM\n\nDrinks available for purchase by the Hitching Post\n\nDinner available for purchase at 5pm from the Hitching Post\, $10 Sandwich Buffet.
X-ALT-DESC;FMTTYPE=text/html:<div class="kvgmc6g5 cxmmr5t8 oygrvhab hcukyx3x c1et5uql" style="overflow-wrap: break-word\; margin: 0px\; font-family: &quot\;Segoe UI Historic&quot\;\, &quot\;Segoe UI&quot\;\, Helvetica\, Arial\, sans-serif\; color: rgb(5\, 5\, 5)\; font-size: 15px\;">The City Of Marshall 150th Committee &amp\; Visit Marshall is proud to KICK OFF Celebration Season of the Sesquicentennial by a City Wide BINGO at the Red Baron Arena &amp\; Expo!</div>\n\n<div class="cxmmr5t8 oygrvhab hcukyx3x c1et5uql o9v6fnle" style="overflow-wrap: break-word\; margin: 0.5em 0px 0px\; font-family: &quot\;Segoe UI Historic&quot\;\, &quot\;Segoe UI&quot\;\, Helvetica\, Arial\, sans-serif\; color: rgb(5\, 5\, 5)\; font-size: 15px\;">18+Event</div>\n\n<div class="cxmmr5t8 oygrvhab hcukyx3x c1et5uql o9v6fnle" style="overflow-wrap: break-word\; margin: 0.5em 0px 0px\; font-family: &quot\;Segoe UI Historic&quot\;\, &quot\;Segoe UI&quot\;\, Helvetica\, Arial\, sans-serif\; color: rgb(5\, 5\, 5)\; font-size: 15px\;">Bingo Packet is $20\, Bingo Starts promptly at 6:00PM. Doors open at 5:00PM</div>\n\n<div class="cxmmr5t8 oygrvhab hcukyx3x c1et5uql o9v6fnle" style="overflow-wrap: break-word\; margin: 0.5em 0px 0px\; font-family: &quot\;Segoe UI Historic&quot\;\, &quot\;Segoe UI&quot\;\, Helvetica\, Arial\, sans-serif\; color: rgb(5\, 5\, 5)\; font-size: 15px\;">Drinks available for purchase by the Hitching Post</div>\n\n<div class="cxmmr5t8 oygrvhab hcukyx3x c1et5uql o9v6fnle" style="overflow-wrap: break-word\; margin: 0.5em 0px 0px\; font-family: &quot\;Segoe UI Historic&quot\;\, &quot\;Segoe UI&quot\;\, Helvetica\, Arial\, sans-serif\; color: rgb(5\, 5\, 5)\; font-size: 15px\;">Dinner available for purchase at 5pm from the Hitching Post\, $10 Sandwich Buffet.</div>\n
LOCATION:Red Baron Arena & Expo 1651 Victory Drive Marshall\, MN 56258
UID:e.499.17737
SEQUENCE:3
DTSTAMP:20260425T222427Z
URL:https://business.marshallmn.org/events/details/marshall-150th-bingo-17737
END:VEVENT

END:VCALENDAR
