BEGIN:VCALENDAR
VERSION:2.0
PRODID:-//ChamberMaster//Event Calendar 2.0//EN
METHOD:PUBLISH
X-PUBLISHED-TTL:P3D
REFRESH-INTERVAL:P3D
CALSCALE:GREGORIAN
BEGIN:VEVENT
DTSTART:20260308T180000Z
DTEND:20260308T200000Z
X-MICROSOFT-CDO-ALLDAYEVENT:FALSE
SUMMARY:March Puzzle Competition
DESCRIPTION:Join us at Painted Prairie for a March Puzzle Challenge on Sunday\, March 8th at 1:00 p.m.\n\n\n \n\nTeam sizes of four or less will face off against other teams completing a 500-piece puzzle in an hour 1/2. A $50 gift card will be given to 1st place team and $25 gift card to the 2nd place team.\n\n \n\nCost is $45 per team. This includes the puzzle to take home and a bottle of wine for your team to enjoy during the challenge or to take home. Cheers!\n\n \n\nPlease note: If your team plans to eat\, please arrive at least 30 minutes prior to the start to ensure you get to enjoy your food before the challenge begins.\n\n \n\nMarch Puzzle Challenge | Painted Prairie Vineyard
X-ALT-DESC;FMTTYPE=text/html:<div>Join us at Painted Prairie for a March Puzzle Challenge on Sunday\, March 8th at 1:00 p.m.</div>\n\n<div>\n<div>&nbsp\;</div>\n\n<div>Team sizes of four or less will face off against other teams completing a 500-piece puzzle in an hour 1/2. A $50 gift card will be given to 1st place team and $25 gift card to the 2nd place team.</div>\n\n<div>&nbsp\;</div>\n\n<div>Cost is $45 per team. This includes the puzzle to take home and a bottle of wine for your team to enjoy during the challenge or to take home. Cheers!</div>\n\n<div>&nbsp\;</div>\n\n<div>Please note: If your team plans to eat\, please arrive at least 30 minutes prior to the start to ensure you get to enjoy your food before the challenge begins.</div>\n\n<div>&nbsp\;</div>\n\n<div><a class="x_OWAAutoLink" href="https://painted-prairie-vineyard.square.site/product/march-puzzle-challenge/F4FGBBF36SC3BBFW3BLNP7GT?cp=true&amp\;sa=false&amp\;sbp=false&amp\;q=false&amp\;category_id=WLJXP7O2TNSJOOAVXGCVUKA3" id="OWA92e6717d-fcff-901f-7eed-4f36702a1a79" rel="noopener noreferrer" style="border: 0px\; font: inherit\; margin: 0px\; padding: 0px\; vertical-align: baseline\;" target="_blank" title="https://painted-prairie-vineyard.square.site/product/march-puzzle-challenge/F4FGBBF36SC3BBFW3BLNP7GT?cp=true&amp\;sa=false&amp\;sbp=false&amp\;q=false&amp\;category_id=WLJXP7O2TNSJOOAVXGCVUKA3">March Puzzle Challenge | Painted Prairie Vineyard</a></div>\n</div>\n
LOCATION:Painted Prairie Vineyard 1575 250th Ave. Currie\, MN 56123
UID:e.499.22879
SEQUENCE:3
DTSTAMP:20260424T010306Z
URL:https://business.marshallmn.org/events/details/march-puzzle-competition-22879
END:VEVENT

END:VCALENDAR
